BEGIN:VCALENDAR
PRODID:-//Microsoft Corporation//Outlook 11.0 MIMEDIR//EN
VERSION:2.0
METHOD:PUBLISH
BEGIN:VEVENT
DTSTART:20261025T170000
LOCATION:Gasthof zum goldenen Kreuz Zürcherstrasse 134, 8500 Frauenfeld
TRANSP:OPAQUE
SEQUENCE:0
UID:9be415ca-9e75-4165-8858-b5d25170a76f-0
DTSTAMP:20261025T170000
DESCRIPTION:Pizza, Pasta, Mord – Ein DinnerKrimi Buch & Regie: Peter DenloEs spielen: Simone Appel, Susanne von Fioreschy-Weinfeld, Mauro Galati, Germaine Heri, Erich Hollenstein, Manuela Hollenweger, Pauli Schmidig und Marius Sverrisson Seit Generationen sind die Familien Carbone und Caduff erbitterte Feinde. Bei der Beerdigung des verehrten Don Padrone treffen sie erstmals seit Jahren wieder aufeinander. Die Stimmung ist explosiv, offene Rechnungen liegen in der Luft. Und noch bevor der Sarg geschlossen wird, zerreisst ein lauter Schuss die trauernde Stille. Spätestens jetzt ist klar: Die Vendetta dieser mafiösen Familien ist alles andere als überwunden.   Du gerätst selbst ins Visier der Clans und tauchst tief in die italianità ein. Zwischen Vespa, Grappa und dunkler Sonnenbrille erlebst du kulinarische Höhepunkte und hilfst der Polizei, einen ebenso perfiden wie gefährlichen Mordfall zu lösen.Alle Vorstellungen in Schweizer Mundart.\n\nVerfügbarkeit / Datum, Zeit\n25.10.2026 17:00 - \n\nPreis\n173.10-178.10 CHF\n\nVorverkauf\nhttps://www.awin1.com/pclick.php?p=44480356850&a=1359901&m=23183\n\n\nDas Angebot im Detail: https://www.guidle.com/angebote/1253149888/pizza_pasta_mord_-_ein_dinnerkrimi/frauenfeld\nQuelle: https://www.guidle.com
SUMMARY:Pizza, Pasta, Mord - Ein DinnerKrimi
PRIORITY:5
X-MICROSOFT-CDO-IMPORTANCE:1
CLASS:PUBLIC
BEGIN:VALARM
TRIGGER:-P1D
ACTION:DISPLAY
DESCRIPTION:Reminder
END:VALARM
END:VEVENT
END:VCALENDAR