BEGIN:VCALENDAR
PRODID:-//Microsoft Corporation//Outlook 11.0 MIMEDIR//EN
VERSION:2.0
METHOD:PUBLISH
BEGIN:VEVENT
DTSTART:20260703T090000
LOCATION:Dramatherapie Institut Rosenbergstrasse 42b, 9000 St. Gallen
TRANSP:OPAQUE
SEQUENCE:0
UID:3b44af48-67a3-44f6-861d-8b12eb2dff09-0
DTSTAMP:20260703T090000
DESCRIPTION:Interesse daran, neue Zugänge zu sich selbst zu entdecken – jenseits von Sprache und Denken?\n\nIn diesem Einführungsseminar lernen die Teilnehmenden die Dramatherapie kennen, eine Methode der Kunsttherapie, die mit Theater, Bewegung und Imagination arbeitet. In einem geschützten Rahmen erleben die Teilnehmenden, wie Rollen, Ausdruck und kreative Prozesse neue Perspektiven eröffnen können.\n\nDas Seminar verbindet praktische Übungen mit Reflexion und richtet sich an Menschen aus psychosozialen, pädagogischen oder künstlerischen Bereichen sowie an alle, die neugierig sind, diese Methode kennenzulernen.\n\nEs sind keine Vorkenntnisse erforderlich.\n\nhttps://dramatherapie.ch\n\nKontakt\nDTI Dramatherapie Institut\n0712220035\n\nVerfügbarkeit / Datum, Zeit\n3.7.2026 09:00 - \n17.9.2026 09:00 - \n\n\nDas Angebot im Detail: https://www.guidle.com/angebote/1253506783/kunsttherapie_erleben__einfuhrungsseminar_dramatherapie/st_gallen\nQuelle: https://www.guidle.com
SUMMARY:Kunsttherapie erleben – Einführungsseminar Dramatherapie
PRIORITY:5
X-MICROSOFT-CDO-IMPORTANCE:1
CLASS:PUBLIC
BEGIN:VALARM
TRIGGER:-P1D
ACTION:DISPLAY
DESCRIPTION:Reminder
END:VALARM
END:VEVENT
END:VCALENDAR