BEGIN:VCALENDAR
PRODID:-//Microsoft Corporation//Outlook 11.0 MIMEDIR//EN
VERSION:2.0
METHOD:PUBLISH
BEGIN:VEVENT
DTSTART:20260709T090000
DTEND:20260709T160000
LOCATION:SO20 - Haus zum Lernen St.-Oswalds-Gasse 20, 6300 Zug
TRANSP:OPAQUE
SEQUENCE:0
UID:53457b3f-d4a8-4d0b-8d85-1721fb5f0314-0
DTSTAMP:20260709T090000
DESCRIPTION:In diesem zweitägigen Ferien-Workshop bauen Kinder ihren eigenen DanceBot von Grund auf. Sie löten elektronische Bauteile, verkabeln Lautsprecher, LEDs und Motoren und gestalten den Roboter ganz nach ihren Ideen. Anschliessend programmieren sie mit einer speziellen Software eine Choreografie zu ihrem Lieblingssong. Ist alles korrekt gelötet und programmiert, tanzt der Roboter und lässt seine Lichter blinken.\n\nDas Angebot richtet sich an Kinder zwischen 10 und 14 Jahren. Die Kinder werden zwei Tage lang betreut. Bitte ein Lunchpaket für das Mittagessen mitbringen. Spass, Technik und Kreativität sind garantiert!\n\nDauer des Workshops: Donnerstag, 9. Juli, 9–16 Uhr und Freitag, 10. Juli, 9–16 Uhr.\n\nAnmeldung: www.ggzferienpass.ch\n\nIn Zusammenarbeit mit GGZ Ferienpass und mint und pepper der ETH Zürich\n\nBild: mint und pepper\n\nhttps://www.bibliothekzug.ch\n\nKontakt\nBibliothek Zug\nSt. Oswalds-Gasse 21\n6301 Zug\n058 728 95 00\n\nVerfügbarkeit / Datum, Zeit\n9.7.2026 09:00 - 16:00\n10.7.2026 09:00 - 16:00\n\nPreis\nTeilnahme: kostenlos\n\n\nDas Angebot im Detail: https://www.guidle.com/angebote/1253515720/ferienpass_zweitagiger_dancebot-workshop/zug\nQuelle: https://www.guidle.com
SUMMARY:Ferienpass: Zweitägiger DanceBot-Workshop
PRIORITY:5
X-MICROSOFT-CDO-IMPORTANCE:1
CLASS:PUBLIC
BEGIN:VALARM
TRIGGER:-P1D
ACTION:DISPLAY
DESCRIPTION:Reminder
END:VALARM
END:VEVENT
END:VCALENDAR