BEGIN:VCALENDAR
PRODID:-//Microsoft Corporation//Outlook 11.0 MIMEDIR//EN
VERSION:2.0
METHOD:PUBLISH
BEGIN:VEVENT
DTSTART:20260425T110000
DTEND:20260425T180000
LOCATION:7310 Bad Ragaz
TRANSP:OPAQUE
SEQUENCE:0
UID:b542e9af-c8ea-4ef2-898d-d0c09e10439f-0
DTSTAMP:20260425T110000
DESCRIPTION:Die Besucherinnen und Besucher haben die Möglichkeit, den neuen Kurs zu entdecken und an einem besonderen Highlight teilzunehmen: dem Gastro Golf Kurs mit Sofortpreisen. Mehrere Gastronomiebetriebe – darunter das „beatz ragatz”, das „Restaurant Central”, das „Restaurant Rössli”, „Thömsn’s Pub” und die „Viola Bar” – sind Teil des Events und bieten abwechslungsreiche Golf-Challenges mit Sofortpreisen in ihren Betrieben.\n\nAuch am Abend lohnt sich ein Besuch: In den teilnehmenden Gastronomiebetrieben läuft der reguläre Betrieb weiter, sodass Gäste den Tag entspannt bei Essen und Trinken ausklingen lassen können. Im beatz ragatz sorgen die Mountain East Side Allstars und Dj Kim Jung Oi & Pablo Diablo für eine stimmungsvolle Atmosphäre.\n\nEin abwechslungsreicher Tag für Sport, Genuss und Unterhaltung in Bad Ragaz erwartet dich!\n\nWeitere Informationen zu Urban Golf und die direkte Buchungsmöglichkeit finden Sie unter:\n\nhttps://heidiland.com/buchen/erlebnisse/urban-golf-bad-ragaz.html#/experience/TDS00020016312138342 \n\nhttps://heidiland.com/buchen/erlebnisse/urban-golf-bad-ragaz.html#/experience/TDS00020016312138342\n\nKontakt\nHeidiland Tourismus AG\nInfostelle Bad Ragaz\n+41 81 300 40 20\n\nVerfügbarkeit / Datum, Zeit\n25.4.2026 11:00 - 18:00\n\n\nDas Angebot im Detail: https://www.guidle.com/angebote/1253518347/eroffnung_des_urban_golf_kurses_bad_ragaz/bad_ragaz\nQuelle: https://www.guidle.com
SUMMARY:Eröffnung des Urban Golf Kurses Bad Ragaz
PRIORITY:5
X-MICROSOFT-CDO-IMPORTANCE:1
CLASS:PUBLIC
BEGIN:VALARM
TRIGGER:-P1D
ACTION:DISPLAY
DESCRIPTION:Reminder
END:VALARM
END:VEVENT
END:VCALENDAR