BEGIN:VCALENDAR
PRODID:-//Microsoft Corporation//Outlook 11.0 MIMEDIR//EN
VERSION:2.0
METHOD:PUBLISH
BEGIN:VEVENT
DTSTART:20260501T183000
DTEND:20260501T200000
LOCATION:Schloss Schwarzenburg Schlossgasse 13, 3150 Schwarzenburg
TRANSP:OPAQUE
SEQUENCE:0
UID:7049e978-66e1-4578-a26d-bd35f83e14aa-0
DTSTAMP:20260501T183000
DESCRIPTION:Wiederum zeigt der Kunstverein Schwarzenburg in seiner Frühjahrsausstellung die faszinierenden Werke von drei Kunstschaffenden mit ganz unterschiedlicher künstlerischer Praxis: \nDie Bernerin Caroline Singeisen, 1977, setzt sich in ihren Zeichnungen mit dem menschlichen Körper, mit Sinneseindrücken und Emotionen auseinander. Weiblichkeit, Mutterschaft, Sexualität und hybride Wesen sind wiederkehrende Motive der ausdrucksstarken Bilder. \nYvonne Lanz, 1984, aus Bern, arbeitet als Künstlerin mit Keramik, Video und Poesie. Ausgehend von Lehm und archäologischen Funden forscht sie zu unserer Wahrnehmung und menschlichen Spuren. Es interessiert sie, wie Material Wissen speichert und wie vergangene Lebensformen unser heutiges Handeln prägen.\nDer Schwarzenburger Fritz Wyss, 1946, hat als Lehrer oft mit seinen Schülerinnen und Schülern mit Ton gearbeitet und auch selbst immer wieder Tierfiguren modelliert. Über die Jahre hat er eine grosse Fertigkeit und Ausdruckskraft entwickelt. Die fantastischen Kleinplastiken wecken Erinnerungen an Wesen aus Träumen und/oder aus der Mythologie.  \n\nIm Schlosskeller stellt Caroline Singeisen raumgrosse Kohlezeichnungen aus. Sie stehen im Dialog mit vielen modellierten Tierfiguren von Fritz Wyss. Im Treppenhaus erwartet die Besucherinnen und Besucher die Videoinstallation Zwischen zwei Bergen fliesst ein Fluss  von Yvonne Lanz. Von ihr werden zudem in den Fensterluken auf der Galerie im Schlosshof grosse plastische Objekte zu sehen sein. \n\n\n\nhttps://kunstverein-schwarzenburg.ch/\n\nKontakt\nKunstverein Schwarzenburg\nLaurenz Suter\nPräsident\nThangässli 6\n3150 Schwarzenburg\n031 731 34 92\n\nVerfügbarkeit / Datum, Zeit\n1.5.2026 18:30 - 20:00\n2.5.2026 13:00 - 17:00\n3.5.2026 11:00 - 16:00\n8.5.2026 16:00 - 20:00\n9.5.2026 13:00 - 17:00\n10.5.2026 11:00 - 16:00\n\nFreitag, 1.5.2026, 18.30 Uhr, Vernissage Kunstausstellung im Schloss Schwarzenburg, vorgängig um 17.30 Uhr Hauptversammlung des Kunstvereins Schwarzenburg\nSonntag, 10.5.2026, 14 Uhr, Performance von Caroline Singeisen\n\nPreis\nEintritt frei\n\n\nDas Angebot im Detail: https://www.guidle.com/angebote/1254328037/kunstausstellung_im_schloss_schwarzenburg/schwarzenburg\nQuelle: https://www.guidle.com
SUMMARY:Kunstausstellung im Schloss Schwarzenburg
PRIORITY:5
X-MICROSOFT-CDO-IMPORTANCE:1
CLASS:PUBLIC
BEGIN:VALARM
TRIGGER:-P1D
ACTION:DISPLAY
DESCRIPTION:Reminder
END:VALARM
END:VEVENT
END:VCALENDAR