BEGIN:VCALENDAR
PRODID:-//Microsoft Corporation//Outlook 11.0 MIMEDIR//EN
VERSION:2.0
METHOD:PUBLISH
BEGIN:VEVENT
DTSTART:20260426T130000
DTEND:20260426T170000
LOCATION:Malatelier Christine Giger Bahnhofstrasse 29, 9320 Arbon
TRANSP:OPAQUE
SEQUENCE:0
UID:70da1f26-e08d-4ae3-86c3-59cf7f1457e7-0
DTSTAMP:20260426T130000
DESCRIPTION:Möchtest du malen und dich in Farben ausdrücken, dir fehlt aber der Platz oder die Materialien? Oder du weisst nicht wie beginnen? Dann komm zu mir ins Malatelier am Bodensee. Du musst nichts mitbringen, ausser dich mit deinen inneren Wünschen.\n\nFür einmal musst du nichts tun.\nNichts organisieren, nichts planen.\nAlles ist bereit, die Farben warten.\nKomm an, atme auf, geniesse den Moment\nund spiel mit Farben und Pinseln.\n\nhttps://christinegiger.ch/event/sonntagsmalen\n\nKontakt\nChristine Giger\nBahnhofstrasse 29\n9320 Arbon\n+41 76 420 24 78\n\nVerfügbarkeit / Datum, Zeit\n26.4.2026 13:00 - 17:00\n\nPreis\nCHF 100.- (inkl. Material und Getränke)\n\n\nDas Angebot im Detail: https://www.guidle.com/angebote/1254712807/sonntagsmalen_-_zeit_fur_farben_zeit_fur_dich/arbon\nQuelle: https://www.guidle.com
SUMMARY:SONNTAGSMALEN - Zeit für Farben. Zeit für dich.
PRIORITY:5
X-MICROSOFT-CDO-IMPORTANCE:1
CLASS:PUBLIC
BEGIN:VALARM
TRIGGER:-P1D
ACTION:DISPLAY
DESCRIPTION:Reminder
END:VALARM
END:VEVENT
END:VCALENDAR