BEGIN:VCALENDAR
PRODID:-//Microsoft Corporation//Outlook 11.0 MIMEDIR//EN
VERSION:2.0
METHOD:PUBLISH
BEGIN:VEVENT
DTSTART:20261110T193000
DTEND:20261110T213000
LOCATION:Kongresszentrum Thurgauerhof, Grosser Saal Felsenstrasse 6, 8570 Weinfelden
TRANSP:OPAQUE
SEQUENCE:0
UID:7dfe3bda-09a8-412b-8eb6-0a373689839c-0
DTSTAMP:20261110T193000
DESCRIPTION:Wenn Rolf Schmid die Bühne betritt, bleibt kein Auge trocken – und 2026 wird das letzte Jahr sein, in dem das Comedy-Urgestein mit seinem neuen Programm «I mag eifach nüma!» mit einer grossen Tournee durch die Schweiz  zieht und am Dienstag 10. November im Thurgauerhof Weinfelden gastiert. Nach über drei Jahrzehnten voller Pointen, Programme und als Publikumsliebling sagt der Bündner Entertainer und Comedian: «Es isch fertig luschtig – zumindest uf dä Bühni.» Tickets für die Abschiedstournee sind ab sofort auf www.ticketcorner.ch erhältlich. \n\nMan versteht ihn gut: 66 Jahre hat er auf dem Buckel, 33 Jahre stand er auf der Bühne. Schweizweit bekannt wurde Rolf Schmid in den 1990er-Jahren als Gesicht und Werbebotschafter von Rhäzünser Mineralwasser. Es folgten zahlreiche Tourneen sowie Auftritte in beliebten TV-Shows wie Benissimo, Rondo Mondo, Arosa Humor Festival oder Giacobbo/Müller. \n\n«I mag eifach nid!» ist Kult\nMit insgesamt 12 Soloprogrammen brachte er das Publikum immer wieder zum Lachen – und kassierte dafür nicht nur unzählige «Standing Ovations», die er gerne mit einem «Setzt euch, ich bin ja no da» konterte, sondern auch Auszeichnungen wie den renommierten Prix Walo und diverse Comedy-Awards. Mit seiner legendären Nummer «I mag eifach nid!» erlangte er schliesslich Kultstatus. «Es erfüllt mich schon etwas mit Stolz, dass diese Zeile heute noch über alle Generation weitergegeben wird und auch für Lebensfreude steht», sagt ein glücklicher Rolf Schmid. \n\nRolf privat – fast so lustig wie auf der Bühne\nAbseits des Rampenlichts ist Schmid Familienmensch geblieben. Zwischen Auftritten, Tourneen und Proben hat er es immer geschafft, für seine Liebsten da zu sein – und das Kochen seiner legendären «Schmid’schen Älplermagronen» nie vernachlässigt. Ob als Vater, Freund oder Gastgeber: Seine Bodenständigkeit ist so unverwechselbar wie sein Humor. «Ich konnte bisher das machen, was mir Freude bereitet. Dafür bin ich sehr dankbar», sagt Rolf Schmid. \n\nEin lustiges Buch als Bestseller\n2023 veröffentliche Rolf Schmid das Buch «I mag einfach nid». Dies ist ein Buch, das der Comedian Rolf Schmid und sein Texter Hardy Hemmi ursprünglich gar nie wollten. Sie wollten nichts anderes als bloss ein paar Anekdoten aus dem fast ganz normalen Leben des gelernten Bäcker-Konditors und späteren Comedians Rolf Schmid notieren und diese biografischen Episoden irgendwann, irgendwie und irgendwo szenisch auf die Bühne bringen. Über Nacht verselbständigte sich das ganze Projekt und kam in Fahrt, wie ein reißender Bündner Bergbach nach einem Gewitter. Und dann ging es los: Und das fast ganz normale Leben von Rolf Schmid erweist sich im Rückspiegel betrachtet oft als meilenweit weg von jeder Norm. Und vieles, was aus heutiger Distanz urkomisch, ja lustig erscheint, war damals oft alles andere als das. Das lustige Buch wird zum Bestseller. \n\nDie letzte Tournee – ein Abschied mit Lachtränen\nMit seiner Abschiedstournee 2026 erfüllt Rolf Schmid sich und seinem Publikum den letzten grossen Traum: Noch einmal durchs Land ziehen, noch einmal alles geben, noch einmal die Leute zum Lachen bringen. «Danach freue ich mich, mehr Zeit mit meiner Familie, in der Natur und fürs Kochen zu haben», meint Rolf Schmid. «I mag einfach nüma!» heisst sein Schlusspunkt. Eine unterhaltsame Mischung aus Rückblick, Vorschau und Chaos. Also Rolf Schmid wie man ihn kennt respektive kannte. Rolf Schmid: «Es ist für mich eine Ehre, meinem treuen Publikum nochmals richtig die Lachmuskeln zu strapazieren».\n\n\nhttps://www.starshows.ch\n\nKontakt\nStar Shows GmbH\nMarco Knittel\nKronbergstrasse 9\n9104 Waldstatt\n\nVerfügbarkeit / Datum, Zeit\n10.11.2026 19:30 - 21:30\n\nPreis\nCHF 49.00 bis 79.00\n\nVorverkauf\nTicketcorner  0900 800 800 (CHF 1.19/min.)\nhttps://www.ticketcorner.ch/event/rolf-schmid-i-mag-eifach-nuema-2026-hotel-thurgauerhof-21572359/?affiliate=GUI\n\n\nDas Angebot im Detail: https://www.guidle.com/angebote/1254716436/rolf_schmid_-_i_mag_einfach_numa/weinfelden\nQuelle: https://www.guidle.com
SUMMARY:Rolf Schmid - I mag einfach nüma
PRIORITY:5
X-MICROSOFT-CDO-IMPORTANCE:1
CLASS:PUBLIC
BEGIN:VALARM
TRIGGER:-P1D
ACTION:DISPLAY
DESCRIPTION:Reminder
END:VALARM
END:VEVENT
END:VCALENDAR