BEGIN:VCALENDAR
PRODID:-//Microsoft Corporation//Outlook 11.0 MIMEDIR//EN
VERSION:2.0
METHOD:PUBLISH
BEGIN:VEVENT
DTSTART:20260602T190000
DTEND:20260602T210000
LOCATION:Kunstmuseum Thurgau, Kartause Ittingen, 8532 Warth
TRANSP:OPAQUE
SEQUENCE:0
UID:b33691a4-c3ec-434e-91db-24ee655436db-0
DTSTAMP:20260602T190000
DESCRIPTION:Der Wald ist seit jeher ein wichtiger Ort für die Menschen. Als Sehnsuchtsort, Schutzraum oder Rohstofflieferant birgt der Wald vielschichtige Bedeutungen. Ein Themenfeld, welches auch Kunstschaffende inspiriert hat. In der Kunst wird deutlich, wie eng das Bild des Waldes mit den Vorstellungen und Haltungen einer Gesellschaft verknüpft ist.\n\nIm ersten Teil der Veranstaltung gibt uns Marlén Gubsch als Forstwirtin Einblicke in ihre Perspektive auf die Walddarstellungen in der Ausstellung. In einem zweiten Teil wird sie mit uns als Waldtherapeutin den umliegenden Ittinger Wald erkunden: Wir schärfen unsere Wahrnehmung für seine Strukturen, Erscheinungsformen und Vielfalt, entdecken sowohl Verborgenes als auch Offensichtliches und begegnen zugleich uns selbst auf eine lebendige und unmittelbare Art. Im gemeinsamen Austausch lassen wir das Erlebte nachklingen und teilen unsere Eindrücke zu Wald, Kunst und persönlichen Erfahrungen.\n\nBitte dem Wetter entsprechende Kleidung und Schuhe tragen.\n\nhttps://kunstmuseum.tg.ch/\n\nKontakt\nKunstmuseum Thurgau\nKartause Ittingen\n8532 Warth\n+41 (0)58 345 10 60\n\nVerfügbarkeit / Datum, Zeit\n2.6.2026 19:00 - 21:00\n3.6.2026 14:00 - 16:00\n\nPreis\nCHF 20.00 pro Termin\n\nVorverkauf\nDie Teilnehmerinnenzahl ist auf max. 20 Personen beschränkt. Eine Anmeldung ist erforderlich\nhttps://kunstmuseum.tg.ch/de/events/veranstaltungssuche.html/7767\n\n\nDas Angebot im Detail: https://www.guidle.com/angebote/1255147121/frauen-kunst-club_zwischen_bildern_und_baumen/warth\nQuelle: https://www.guidle.com
SUMMARY:Frauen-Kunst-Club: Zwischen Bildern und Bäumen
PRIORITY:5
X-MICROSOFT-CDO-IMPORTANCE:1
CLASS:PUBLIC
BEGIN:VALARM
TRIGGER:-P1D
ACTION:DISPLAY
DESCRIPTION:Reminder
END:VALARM
END:VEVENT
END:VCALENDAR