BEGIN:VCALENDAR
PRODID:-//Microsoft Corporation//Outlook 11.0 MIMEDIR//EN
VERSION:2.0
METHOD:PUBLISH
BEGIN:VEVENT
DTSTART:20260614T114500
DTEND:20260614T124500
LOCATION:Kunstmuseum Thurgau, Kartause Ittingen, 8532 Warth
TRANSP:OPAQUE
SEQUENCE:0
UID:7616ab7b-7469-42b5-8d73-1a4fe1b5cbc6-0
DTSTAMP:20260614T114500
DESCRIPTION:Zwischen Wurzelwerk und Wipfeln verbirgt sich weit mehr als ein Naturraum – der Wald ist kultureller Bedeutungs- und Projektionsraum. Die öffentliche Führung durch die Sammlungsschau zeigt anhand ausgewählter Werke und ihrer Hintergründe verschiedene Blickwinkel auf das Thema «Wald».\n\nKommen Sie mit auf einen einstündigen Spaziergang durch die Ausstellung und begegnen Sie Werken von Helen Dahm, Adolf Dietrich, Hans Krüsi sowie weiteren zeitgenössischen Highlights aus der Sammlung.\n\nhttps://kunstmuseum.tg.ch/\n\nKontakt\nKunstmuseum Thurgau\nKartause Ittingen\n8532 Warth\n+41 (0)58 345 10 60\n\nVerfügbarkeit / Datum, Zeit\n14.6.2026 11:45 - 12:45\n\nPreis\nCHF 10.00 / 7.00, das Eintrittsticket berechtigt zur Führung.\n\n\nDas Angebot im Detail: https://www.guidle.com/angebote/1255165101/offentliche_fuhrung_durch_die_ausstellung_zwischen_wurzeln_und_wipfeln/warth\nQuelle: https://www.guidle.com
SUMMARY:Öffentliche Führung durch die Ausstellung «Zwischen Wurzeln und Wipfeln»
PRIORITY:5
X-MICROSOFT-CDO-IMPORTANCE:1
CLASS:PUBLIC
BEGIN:VALARM
TRIGGER:-P1D
ACTION:DISPLAY
DESCRIPTION:Reminder
END:VALARM
END:VEVENT
END:VCALENDAR