BEGIN:VCALENDAR
PRODID:-//Microsoft Corporation//Outlook 11.0 MIMEDIR//EN
VERSION:2.0
METHOD:PUBLISH
BEGIN:VEVENT
DTSTART:20260801
LOCATION:Mühle 4, 3251 Wengi b. Büren
TRANSP:OPAQUE
SEQUENCE:0
UID:599a16b8-bdd7-49ee-a908-6f4074cfb8fd-0
DTSTAMP:20260801T120000
DESCRIPTION:<strong>Reservation</strong>:\n+41 32 389 26 73\n+41 79 518 57 50\n+41 79 772 73 93\nwalter.liechti@gmx.ch\n\n<strong>Details</strong>\nStand Anmeldungen: Noch Plätze frei\nMax. Anzahl Gäste: 70\nKosten erwachsene Person: 35\n\n<strong>Bemerkung</strong>:\n1. August Brunch von 09.00 bis 14.00 Uhr\n\n<strong>Wegbeschreibung</strong>:\nAuto: Im Kreisverkehr in Wengi Richtung Bätterkinden fahren, nach ca. 400 Meter nach der Brücke rechts Abbiegen. Das Ziel erreichen Sie nach 150 Meter geradeaus\nÖV: RBS Bus 871 bis Waltwil. Weiter zu Fuss ca. 4 Minuten\n\nKontakt\nWalter & Cornelia Liechti\n+41 32 389 26 73\n+41 79 518 57 50\n\nVerfügbarkeit / Datum, Zeit\n1.8.2026 \n\nPreis\nErwachsen: 35\n\n\nDas Angebot im Detail: https://www.guidle.com/angebote/1255550763/1_august-brunch_muhlehof/wengi_b_buren\nQuelle: https://www.guidle.com
SUMMARY:1. August-Brunch: Mühlehof
PRIORITY:5
X-MICROSOFT-CDO-IMPORTANCE:1
CLASS:PUBLIC
BEGIN:VALARM
TRIGGER:-P1D
ACTION:DISPLAY
DESCRIPTION:Reminder
END:VALARM
END:VEVENT
END:VCALENDAR