BEGIN:VCALENDAR
PRODID:-//Microsoft Corporation//Outlook 11.0 MIMEDIR//EN
VERSION:2.0
METHOD:PUBLISH
BEGIN:VEVENT
DTSTART:20260421T120000
LOCATION:6045 Meggen
TRANSP:OPAQUE
RRULE:FREQ=DAILY;INTERVAL=1
UID:6cd3e058-6206-486e-adae-7386841d3084-0
DTSTAMP:20260421T120000
DESCRIPTION:Direkt beim Schloss Meggenhorn befindet sich ein schöner Aussichtspunkt, welcher über den St.-Charles-Hall-Weg erreichbar ist. \n\nhttp://www.meggen.ch\n\nKontakt\nGemeinde Meggen\n6045 Meggen\n+41 41 379 81 11\n+41 41 379 81 66\n\nSt.-Charles-Hall-Weg: Mai bis September, täglich 08.00 bis 22.00 Uhr\n                                         Winter, täglich 08.00 bis 20.00 Uhr\n\nPreis\nKostenlose Wanderung.\n\n\nDas Angebot im Detail: https://www.guidle.com/angebote/1397473/aussichtspunkt_beim_schloss_meggenhorn/meggen\nQuelle: https://www.guidle.com
SUMMARY:Aussichtspunkt beim Schloss Meggenhorn
PRIORITY:5
X-MICROSOFT-CDO-IMPORTANCE:1
CLASS:PUBLIC
BEGIN:VALARM
TRIGGER:-P1D
ACTION:DISPLAY
DESCRIPTION:Reminder
END:VALARM
END:VEVENT
END:VCALENDAR