BEGIN:VCALENDAR
PRODID:-//Microsoft Corporation//Outlook 11.0 MIMEDIR//EN
VERSION:2.0
METHOD:PUBLISH
BEGIN:VEVENT
DTSTART:20110101
LOCATION:Gehren, 6402 Merlischachen
TRANSP:OPAQUE
RRULE:FREQ=WEEKLY;INTERVAL=1;WKST=MO;BYDAY=MO,TU,WE,TH,FR,SA,SU
UID:e55f62c7-c0db-40e1-86df-a4a8b4e9943d-0
DTSTAMP:20110101T120000
DESCRIPTION:Das kleinste Hotel der Schweiz bietet zwei jungen oder jung gebliebenen Personen ein Nachtlager der etwas anderen Art: Das ehemalige Bienenhaus besteht aus einem kleinen Wohnraum mit Sofa, Esstisch und Schwedenofen sowie einer Schlafgalerie und einem privaten Gartensitzplatz. Im neuen Anbau befindet sich ein modernes Badezimmer (Dusche/WC) und eine frei stehende Badewanne mit Sicht auf Vierwaldstättersee und Berge. Für Ruhe suchende, romantisch veranlagte Leute die ideale Übernachtungsmöglichkeit! Übrigens: Mit einem Gutschein können Sie dieses unvergessliche Erlebnis auch weiter schenken!\n\nhttps://www.gehren.ch\n\nKontakt\nLandwirtschaft - Agrotourismus - Hofbrennerei Gehren\nFamilie Bähler-Eggerschwiler\nGehren\n6402 Merlischachen\n+41 41 850 81 72\n\nVerfügbarkeit / Datum, Zeit\n1.1.2011 -  \n\nPreis\nEine Übernachtung für 2 Personen, inkl. Frühstück: CHF 220.-\nZusatznacht: CHF 180.-\n\nEine Übernachtung für 2 Personen, inkl. Nachtessen, alle Getränke und Frühstück: CHF 350.-\n\nRomantikübernachtung (beinhaltet Prosecco-Apéro mit Häppchen, Früchteschale, Nachtessen mit Getränken und Frühstück): CHF 400.-\n\nAn Wochenenden (Freitag - Sonntag) gilt ein Mindestaufenthalt von zwei Übernachtungen.\n\nVorverkauf\nwww.gehren.ch/index.php?page=reservation_bienenhaus\n\n\nDas Angebot im Detail: https://www.guidle.com/angebote/1587868/ubernachten_im_bienenhaus/merlischachen\nQuelle: https://www.guidle.com
SUMMARY:Übernachten im Bienenhaus
PRIORITY:5
X-MICROSOFT-CDO-IMPORTANCE:1
CLASS:PUBLIC
BEGIN:VALARM
TRIGGER:-P1D
ACTION:DISPLAY
DESCRIPTION:Reminder
END:VALARM
END:VEVENT
END:VCALENDAR