BEGIN:VCALENDAR
PRODID:-//Microsoft Corporation//Outlook 11.0 MIMEDIR//EN
VERSION:2.0
METHOD:PUBLISH
BEGIN:VEVENT
DTSTART:20180501
LOCATION:Verkehrshaus der Schweiz Haldenstrasse 44, 6006 Luzern
TRANSP:OPAQUE
RRULE:FREQ=WEEKLY;INTERVAL=1;WKST=MO;BYDAY=MO,TU,WE,TH,FR,SA,SU
UID:6276b244-6fbc-428b-bb3b-32145414019b-0
DTSTAMP:20180501T120000
DESCRIPTION:Das Verkehrshaus Planetarium ist mit seiner 508 Quadratmeter grossen Projektionsfläche das einzige Grossplanetarium der Schweiz. Auf der 18 Meter grossen Kuppel werden aktuelle und historische Sternenhimmel, Weltraumspaziergänge oder andere astronomische Ereignisse mit bewegten Bildern gezeigt.\n\nPräsentiert werden internationale Produktionen, aber auch vom Verkehrshaus Planetarium eigens produzierte Shows und Vorführungen. Modernste Technik und fünf hochauflösende Projektoren lassen regelrecht durch das Weltall schweben und ermöglichen es, auf individuelle Wünsche der Besucher oder aktuelle astronomische Ereignisse einzugehen. Zum Programm des Planetariums gehören auch spezielle Abendveranstaltungen, die sich kulturellen Themen widmen. Die 360°-Projektion und die hochwertige Soundanlage ermöglichen Vorführungen und Produktionen aller Art.\n\nhttps://www.verkehrshaus.ch/de/planetarium\n\nKontakt\nVerkehrshaus-Gastronomie\nLidostrasse 5\n6006 Luzern\n+41 41 375 74 55\n\nVerfügbarkeit / Datum, Zeit\n1.5.2018 -  \n\nSommerzeit: 10.00 - 18.00 Uhr\nWinterzeit: 10.00 - 17.00 Uhr\n\nPreis\nCHF 18.00 / CHF 14.00 / CHF 10.00\n\nVorverkauf\nhttps://tickets.verkehrshaus.ch/events.aspx?eventseriesid=6\n\n\nDas Angebot im Detail: https://www.guidle.com/angebote/1966717/verkehrshaus_planetarium/luzern\nQuelle: https://www.guidle.com
SUMMARY:Verkehrshaus Planetarium
PRIORITY:5
X-MICROSOFT-CDO-IMPORTANCE:1
CLASS:PUBLIC
BEGIN:VALARM
TRIGGER:-P1D
ACTION:DISPLAY
DESCRIPTION:Reminder
END:VALARM
END:VEVENT
END:VCALENDAR