BEGIN:VCALENDAR
PRODID:-//Microsoft Corporation//Outlook 11.0 MIMEDIR//EN
VERSION:2.0
METHOD:PUBLISH
BEGIN:VEVENT
DTSTART:20260421T140000
DTEND:20260421T170000
LOCATION:Matterhaus, Goarstübli Kirchrain, 5630 Muri AG
TRANSP:OPAQUE
SEQUENCE:0
UID:688a8385-a804-4a31-8ff6-7ebc2995972f-0
DTSTAMP:20260421T140000
DESCRIPTION:Spieltreff für Seniorinnen und Senioren. Im gewohnten Rahmen treffen wir uns zum Spielen, Jassen oder gemütlichen Zusammensein. \nMitglieder, Nichtmitglieder, Männer und Frauen sind herzlich willkommen. Jeden 1. und 3.Dienstag im Monat.\n\n\n\nHttps://www.frauenbund-muri.ch\n\nKontakt\nFrauenbund Muri\n5630 Muri\n056 631 35 31\n\nVerfügbarkeit / Datum, Zeit\n21.4.2026 14:00 - 17:00\n5.5.2026 14:00 - 17:00\n19.5.2026 14:00 - 17:00\n2.6.2026 14:00 - 17:00\n16.6.2026 14:00 - 17:00\n7.7.2026 14:00 - 17:00\n21.7.2026 14:00 - 17:00\n4.8.2026 14:00 - 17:00\n18.8.2026 14:00 - 17:00\n1.9.2026 14:00 - 17:00\n15.9.2026 14:00 - 17:00\n6.10.2026 14:00 - 17:00\n20.10.2026 14:00 - 17:00\n3.11.2026 14:00 - 17:00\n17.11.2026 14:00 - 17:00\n1.12.2026 14:00 - 17:00\n15.12.2026 14:00 - 17:00\n\n\nDas Angebot im Detail: https://www.guidle.com/angebote/210489746/frauenbund_muri__spieltreff_fur_seniorinnen_und_senioren/muri_ag\nQuelle: https://www.guidle.com
SUMMARY:Frauenbund Muri | Spieltreff für Seniorinnen und Senioren
PRIORITY:5
X-MICROSOFT-CDO-IMPORTANCE:1
CLASS:PUBLIC
BEGIN:VALARM
TRIGGER:-P1D
ACTION:DISPLAY
DESCRIPTION:Reminder
END:VALARM
END:VEVENT
END:VCALENDAR