BEGIN:VCALENDAR
PRODID:-//Microsoft Corporation//Outlook 11.0 MIMEDIR//EN
VERSION:2.0
METHOD:PUBLISH
BEGIN:VEVENT
DTSTART:20110101
LOCATION:8303 Bassersdorf
TRANSP:OPAQUE
RRULE:FREQ=WEEKLY;INTERVAL=1;WKST=MO;BYDAY=MO,TU,WE,TH,FR,SA,SU
UID:052e1b20-eda3-4ef8-9e51-f3c151a7ee1f-0
DTSTAMP:20110101T120000
DESCRIPTION:Schwedenofen (Holz vorhanden); WC; kein Strom jedoch Petroleumlampen; Feuerstelle bei der Hütte; kein fliessendes Wasser jedoch 20 m entfernt Trinkwasserbrunnen; die Zufahrt zur Hütte ist nur mit einem Auto erlaubt, weitere Parkplätze ca. 10-15 Gehminuten entfernt.\n\nFassungsvermögen: 20 Personen; im Sommer (inkl. Veranda) 40 Personen\n\n\nDie Waldhütte wird von Montag bis Sonntag vermietet, mit Ausnahme der gesetzlichen Feiertage. \n\nDie Waldhütte Heidenburg kann nur online reserviert werden. Die Reservation mit Mietvertrag hat via Website www.bassersdorf.ch zu erfolgen. \n\nDie Räumlichkeit dient der Durchführung privater Anlässe und kann von volljährigen Privatpersonen sowie Schulen, Vereinen, Organisationen und Firmen gemietet werden. \n\nDas Benützungsreglement sowie das Mietreglement sind integrierter Bestandteil des Mietvertrags.\n\nhttp://www.bassersdorf.ch\n\nKontakt\nGemeinde Bassersdorf\nFinanzen + Liegenschaften\nKarl Hügin-Platz\n8303 Bassersdorf\n044 838 85 85\n\nVerfügbarkeit / Datum, Zeit\n1.1.2011 -  \n\nPreis\nCHF 200.–\n\nVorverkauf\nhttp://www.bassersdorf.ch/xml_1/internet/de/application/d7/d433/f381.cfm\n\n\nDas Angebot im Detail: https://www.guidle.com/angebote/229040344/waldhutte_heidenburg/bassersdorf\nQuelle: https://www.guidle.com
SUMMARY:Waldhütte Heidenburg
PRIORITY:5
X-MICROSOFT-CDO-IMPORTANCE:1
CLASS:PUBLIC
BEGIN:VALARM
TRIGGER:-P1D
ACTION:DISPLAY
DESCRIPTION:Reminder
END:VALARM
END:VEVENT
END:VCALENDAR