BEGIN:VCALENDAR
PRODID:-//Microsoft Corporation//Outlook 11.0 MIMEDIR//EN
VERSION:2.0
METHOD:PUBLISH
BEGIN:VEVENT
DTSTART:20260426T140000
LOCATION:Sternwarte Planetarium SIRIUS Schwandenstrasse 131, 3657 Schwanden (Sigriswil)
TRANSP:OPAQUE
SEQUENCE:0
UID:a024f5ea-cf0a-4115-bdfe-aad1d362693e-0
DTSTAMP:20260426T140000
DESCRIPTION:Unternimm zusammen mit dem kleinen Mondbär eine spannende Reise ins Weltall und besuche interessante Himmelskörper.\nDer Mondbär wird dir alles Nötige erklären und das Raumschiff sicher wieder nach Hause steuern.\n\nhttps://sternwarte-planetarium.ch/\n\nKontakt\nSternwarte Planetarium SIRIUS\n033 251 02 44\n\nVerfügbarkeit / Datum, Zeit\n26.4.2026 14:00 - \n31.5.2026 14:00 - \n28.6.2026 14:00 - \n\nPreis\nErwachsene: CHF 13.00\nKinder:          CHF   7.00\n\n\nDas Angebot im Detail: https://www.guidle.com/angebote/265612733/der_kleine_mondbar__ein_sternenmarchen/schwanden_sigriswil\nQuelle: https://www.guidle.com
SUMMARY:Der kleine Mondbär / Ein Sternenmärchen.
PRIORITY:5
X-MICROSOFT-CDO-IMPORTANCE:1
CLASS:PUBLIC
BEGIN:VALARM
TRIGGER:-P1D
ACTION:DISPLAY
DESCRIPTION:Reminder
END:VALARM
END:VEVENT
END:VCALENDAR