BEGIN:VCALENDAR
PRODID:-//Microsoft Corporation//Outlook 11.0 MIMEDIR//EN
VERSION:2.0
METHOD:PUBLISH
BEGIN:VEVENT
DTSTART:20260424T120000
LOCATION:Arena Cinémas La Praille, Centre Commerciale 10, Route des Jeunes, 1227 Carouge GE
TRANSP:OPAQUE
RRULE:FREQ=DAILY;INTERVAL=1
UID:af5fcdfc-3968-4656-b7de-8a1f6f477bff-0
DTSTAMP:20260424T120000
DESCRIPTION:Découvrez ARENA CINEMAS et ses 9 salles de cinéma au 2ème étage de La Praille.\n\nARENA MEGA repousse les limites du cinéma et s'empare de vos sens :\n\nMEGA Screen : l'écran de cinéma le plus grand de Suisse avec 23m de large. Toutes les salles sont équipées d'un écran incurvé pour une immersion totale!\nMEGA Sound : son 3D Auro by Barco 11.1 Digital Surround. Un son immersif qui vous enveloppe.\nMEGA 3D : Lunettes 3D ultralégères et confortables. 12'000 Watts de puissance et de luminosités.\nMEGA Experience: Confort et vision sans pareil!\n\nhttp://arena.ch/fr/geneve\n\nKontakt\nArena Cinémas La Praille 1\nCentre Commerciale\nRoute des Jeunes 10\n1227 Genève\n0900 916 916\n\n\nDas Angebot im Detail: https://www.guidle.com/angebote/276643062/arena_cinemas_la_praille/carouge_ge\nQuelle: https://www.guidle.com
SUMMARY:Arena Cinémas La Praille
PRIORITY:5
X-MICROSOFT-CDO-IMPORTANCE:1
CLASS:PUBLIC
BEGIN:VALARM
TRIGGER:-P1D
ACTION:DISPLAY
DESCRIPTION:Reminder
END:VALARM
END:VEVENT
END:VCALENDAR