BEGIN:VCALENDAR
PRODID:-//Microsoft Corporation//Outlook 11.0 MIMEDIR//EN
VERSION:2.0
METHOD:PUBLISH
BEGIN:VEVENT
DTSTART:20260422T120000
LOCATION:Grottes de Vallorbe et Trésor des Fées, 1337 Vallorbe
TRANSP:OPAQUE
RRULE:FREQ=DAILY;INTERVAL=1
UID:191f2bf0-8f22-4f6f-bf6b-2fde4ef88ab4-0
DTSTAMP:20260422T120000
DESCRIPTION:Die Tropfsteinhölen von Vallorbe entführen Sie in eine geheimnisvolle Zauberwelt, geschaffen com unteridischen Fluss. Wie von Feehand hat das Wasser riesige Säle und fantasievolle Strukturen geformt. Die Wasserfälle, Seen, Stalaktiten und Stalagmiten Faszinieren Gross und Klein. Diese Faszination muss man verlängern mit dem Besuch des Feen-Schatzes, der aussergewöhnlichen Sammlung von Mineralien aus aller Welt.\n\nhttp://www.grottesdevallorbe.ch\n\nKontakt\nGrottes de Vallorbe et Trésor des Fées\n1337 Vallorbe\n+41 (0)21 843 25 83\n\n1. April bis 1. November: jeden Tag von 9h30 bis 16h30 (17h30 Juni bis August). \nNovember bis März: Für Gruppen auf Anfrage geöffnet\n\nPreis\nErwachsene: CHF 14.-\nKinder: CHF 7.-\nGrupen: CHF 12.-/ 6.-\n\n\nDas Angebot im Detail: https://www.guidle.com/angebote/300138432/tropfsteinholen_und_schatz_der_feen/vallorbe\nQuelle: https://www.guidle.com
SUMMARY:Tropfsteinhölen und Schatz der Feen
PRIORITY:5
X-MICROSOFT-CDO-IMPORTANCE:1
CLASS:PUBLIC
BEGIN:VALARM
TRIGGER:-P1D
ACTION:DISPLAY
DESCRIPTION:Reminder
END:VALARM
END:VEVENT
END:VCALENDAR