BEGIN:VCALENDAR
PRODID:-//Microsoft Corporation//Outlook 11.0 MIMEDIR//EN
VERSION:2.0
METHOD:PUBLISH
BEGIN:VEVENT
DTSTART:20260423T120000
LOCATION:blue Cinema Cinedome, Tissot Arena Boulevard des Sports 20, 2504 Biel / Bienne
TRANSP:OPAQUE
RRULE:FREQ=DAILY;INTERVAL=1
UID:38c4093a-02cc-4b69-9138-ffbcef1fade8-0
DTSTAMP:20260423T120000
DESCRIPTION:Alle fünf Säle verfügen über die modernsten zur Zeit auf dem Markt erhältlichen Bild- und Ton-Techniken, sowie eigens konzipierte topbequeme Lounge- und Clubbestuhlung.\nDas Cinedome bietet mit seinem Programm vom neusten Hollywood-Blockbuster bis zum anspruchsvollen Studiofilm eine breite Auswahl an Genres für alle Filmliebhaber. Die Filme werden in deutscher und französischer Sprache wie auch in Originalversion mit Untertitel gezeigt.\nBowling, Billard und eine Sportsbar bringen weitere Abwechslung.\n\nParking: Im Gebäude, vergünstigte Preise mit einem Kinoticket\n\nhttp://www.bluecinema.ch\n\nKontakt\nCinedome 1\nTissot Arena\nBoulevard des Sports 20\n2504 Biel\n0900 556 789\n\n\nDas Angebot im Detail: https://www.guidle.com/angebote/319572905/blue_cinema_cinedome/biel__bienne\nQuelle: https://www.guidle.com
SUMMARY:blue Cinema Cinedome
PRIORITY:5
X-MICROSOFT-CDO-IMPORTANCE:1
CLASS:PUBLIC
BEGIN:VALARM
TRIGGER:-P1D
ACTION:DISPLAY
DESCRIPTION:Reminder
END:VALARM
END:VEVENT
END:VCALENDAR