BEGIN:VCALENDAR
PRODID:-//Microsoft Corporation//Outlook 11.0 MIMEDIR//EN
VERSION:2.0
METHOD:PUBLISH
BEGIN:VEVENT
DTSTART:20260421T120000
LOCATION:Val Ferret, 1944 La Fouly VS
TRANSP:OPAQUE
RRULE:FREQ=DAILY;INTERVAL=1
UID:75de1fdb-1d16-4417-9d7c-68f6e587d39a-0
DTSTAMP:20260421T120000
DESCRIPTION:Sie schlafen im Stroh, entspannt und naturnah. Sie wandern und atmen tief durch... Geniessen Sie den Aufenthalt auf unserer Alp mit ihren verschiedenen Tieren: Enten, Schweine, Kühe, Esel.\n\nKontakt\nAlpage - buvette de la Peule\nNicolas Coppey\nVal Ferret\n1944 La Fouly\n0041 (0)27 783 10 41\n\nPreis\nPREIS PRO PERSON / NACHT INKL. FRÜHSTÜCK\nHauptsaison Sommer: CHF 62\n\n\nDas Angebot im Detail: https://www.guidle.com/angebote/337481603/alpage_-_buvette_de_la_peule_mehrbettzimmer/la_fouly_vs\nQuelle: https://www.guidle.com
SUMMARY:Alpage - buvette de la Peule: Mehrbettzimmer
PRIORITY:5
X-MICROSOFT-CDO-IMPORTANCE:1
CLASS:PUBLIC
BEGIN:VALARM
TRIGGER:-P1D
ACTION:DISPLAY
DESCRIPTION:Reminder
END:VALARM
END:VEVENT
END:VCALENDAR