BEGIN:VCALENDAR
PRODID:-//Microsoft Corporation//Outlook 11.0 MIMEDIR//EN
VERSION:2.0
METHOD:PUBLISH
BEGIN:VEVENT
DTSTART:20110101
LOCATION:Le Peu Girard, 2345 Les Breuleux
TRANSP:OPAQUE
RRULE:FREQ=WEEKLY;INTERVAL=1;WKST=MO;BYDAY=MO,TU,WE,TH,FR,SA,SU
UID:eb556549-b419-4961-9d97-9da3e315fa4b-0
DTSTAMP:20110101T120000
DESCRIPTION:An sonniger und ruhiger Lage vermieten wir auf unserem Bio-Bauernhof eine 2,5 bis 5,5 Zimmer Ferienwohnung. Unter einem Dach kann gesunde Bauernhofatmosphäre mit Mutterkühen, Schafen, Eseln, Hühnern, Kaninchen, Hund und Katze erlebt werden. Es gibt zahlreiche Spielmöglichkeiten für Kinder und Erwachsene. Wander-, Reit-, Velo- und Schneeschuhwege sowie Langlaufloipe führen direkt am Hof vorbei. In der Nähe ist ein Skilift, sowie Hallenbad und Schlittschuhbahn in Saignelégier (ca. 8 Km).\n\nhttp://www.erlebnis-bio-hof.ch\n\nKontakt\nFerme le Peu Girard\nLinus & Kathrine Naef-Fischer\nLe Peu Girard\n2345 Les Breuleux\n00 41 (0)32 954 13 03\n\nVerfügbarkeit / Datum, Zeit\n1.1.2011 -  \n\nPreis\nPREIS PRO PERSON / NACHT INKL. FRÜHSTÜCK\nErwachsene CHF 40.00\nKinder/Jugendliche bis 16 Jahre CHF 15.00 - 20.00\n\n\nDas Angebot im Detail: https://www.guidle.com/angebote/337486557/ferme_le_peu_girard_schlafen_im_stroh/les_breuleux\nQuelle: https://www.guidle.com
SUMMARY:Ferme le Peu Girard: Schlafen im Stroh
PRIORITY:5
X-MICROSOFT-CDO-IMPORTANCE:1
CLASS:PUBLIC
BEGIN:VALARM
TRIGGER:-P1D
ACTION:DISPLAY
DESCRIPTION:Reminder
END:VALARM
END:VEVENT
END:VCALENDAR