BEGIN:VCALENDAR
PRODID:-//Microsoft Corporation//Outlook 11.0 MIMEDIR//EN
VERSION:2.0
METHOD:PUBLISH
BEGIN:VEVENT
DTSTART:20260420T120000
LOCATION:Oberdorf 8, 5063 Wölflinswil
TRANSP:OPAQUE
RRULE:FREQ=DAILY;INTERVAL=1
UID:52dec408-7956-4092-a0b3-48d456e955c0-0
DTSTAMP:20260420T120000
DESCRIPTION:Gemischter Familienbetrieb mit Beeren, Gemüse, Grünspargeln, Obst, Hühner, Rindermast und Ackerbau.\nEigene Produktion von Kaltgepressten Ölen.\n\nhttp://beerenhof.ch\n\nKontakt\nBeerenhof\nGaby & Roger Grimm & Schmid\nOberdorf 8\n5063 Wölflinswil\n079 456 56 24\n079 456 56 24\n\nDer Selbstbedienungsladen ist 365 Tage/Jahr von 7-21 Uhr geöffnet.\n\n\nDas Angebot im Detail: https://www.guidle.com/angebote/342093648/hofladen_beerenhof/wolflinswil\nQuelle: https://www.guidle.com
SUMMARY:Hofladen Beerenhof
PRIORITY:5
X-MICROSOFT-CDO-IMPORTANCE:1
CLASS:PUBLIC
BEGIN:VALARM
TRIGGER:-P1D
ACTION:DISPLAY
DESCRIPTION:Reminder
END:VALARM
END:VEVENT
END:VCALENDAR