BEGIN:VCALENDAR
PRODID:-//Microsoft Corporation//Outlook 11.0 MIMEDIR//EN
VERSION:2.0
METHOD:PUBLISH
BEGIN:VEVENT
DTSTART:20260420T120000
LOCATION:Baumgartner Weinbau AG Dorstrasse 37, 5306 Tegerfelden
TRANSP:OPAQUE
RRULE:FREQ=DAILY;INTERVAL=1
UID:791e349e-4856-4700-84c9-23b9238ab9ff-0
DTSTAMP:20260420T120000
DESCRIPTION:Wir - Michel, Danielle, Noel, Lukas und Sandra Baumgartner - sind eine weinverrückte Winzerfamilie aus dem Aargau. Die Liebe zum Wein, Offenheit für Neues und der Drang nach Innovation begleiten uns täglich und erfüllen unseren Alltag. Wir sind bestrebt, immer einen Schritt voraus zu sein. Wertvolle Begegnungen und spannende Gespräche mit unseren Kunden und Partnern schätzen wir sehr.\n\nUnsere Rebberge befinden sich in Tegerfelden, Goldwand/Ennetbaden, Lengnau, Endingen und Klingnau. Die verschiedenen Standorte unserer 13 Hektar Rebberge bieten diverse Möglichkeiten, um ein vielfältiges Angebot an sorten- und lagetypischen Weinen zu vinifizieren.\n\nBesuchen Sie uns in Tegerfelden und verkosten Sie unser umfangreiches Sortiment. Wir freuen uns auf Ihren Besuch.\nFamilie Baumgartner\n\nEine Rebe weiter.\n\nBemerkung: \nFair'n Green zertifiziert\n\nhttp://www.baumgartner-weinbau.ch\n\nKontakt\nBaumgartner Weinbau AG\nLukas Baumgartner\nDorfstrasse 37\n5306 Tegerfelden\n056 245 28 01\n\n\nDas Angebot im Detail: https://www.guidle.com/angebote/344102203/baumgartner_weinbau_ag/tegerfelden\nQuelle: https://www.guidle.com
SUMMARY:Baumgartner Weinbau AG
PRIORITY:5
X-MICROSOFT-CDO-IMPORTANCE:1
CLASS:PUBLIC
BEGIN:VALARM
TRIGGER:-P1D
ACTION:DISPLAY
DESCRIPTION:Reminder
END:VALARM
END:VEVENT
END:VCALENDAR