BEGIN:VCALENDAR
PRODID:-//Microsoft Corporation//Outlook 11.0 MIMEDIR//EN
VERSION:2.0
METHOD:PUBLISH
BEGIN:VEVENT
DTSTART:20260422T120000
LOCATION:Irchelstrasse 29, 8428 Teufen ZH
TRANSP:OPAQUE
RRULE:FREQ=DAILY;INTERVAL=1
UID:a8539bd0-1683-4422-80bc-d7854ec661d3-0
DTSTAMP:20260422T120000
DESCRIPTION:Wir sind ein Familienbetrieb in Teufen ZH, geführt nach Grundlagen der Permakultur und der Biodynamik, inspiriert von Sepp Holzer und Masanobu Fukuoka. Mit viel Idealismus und Liebe pflegen wir unsere Reben und bauen den Wein in der eigenen Kellerei aus.\n\nhttps://www.stuckiwein.ch\n\nKontakt\nstuckiwein\nKarin & Peter Stucki\nIrchelstrasse 29\n8428 Teufen\n043 266 68 30\n079 784 91 51\n\n\nDas Angebot im Detail: https://www.guidle.com/angebote/344104003/hofladen_stuckiwein/teufen_zh\nQuelle: https://www.guidle.com
SUMMARY:Hofladen stuckiwein
PRIORITY:5
X-MICROSOFT-CDO-IMPORTANCE:1
CLASS:PUBLIC
BEGIN:VALARM
TRIGGER:-P1D
ACTION:DISPLAY
DESCRIPTION:Reminder
END:VALARM
END:VEVENT
END:VCALENDAR