BEGIN:VCALENDAR
PRODID:-//Microsoft Corporation//Outlook 11.0 MIMEDIR//EN
VERSION:2.0
METHOD:PUBLISH
BEGIN:VEVENT
DTSTART:20110101
LOCATION:Marktplatz Weinfelden Marktplatz 5, 8570 Weinfelden
TRANSP:OPAQUE
RRULE:FREQ=WEEKLY;INTERVAL=1;WKST=MO;BYDAY=MO,TU,WE,TH,FR,SA,SU
UID:60c25d63-a2b4-455c-a3ca-b38c1a1c6100-0
DTSTAMP:20110101T120000
DESCRIPTION:Von ca. April bis ca. Mitte September überdacht in der Regel ein Sonnensegel einen Teil des Platzes. Grundsätzlich wird der Platz leer und ohne weitere Infrastruktur zur Verfügung gestellt. Marktstände können bei der Gemeinde gemietet werden, Stromanschlüsse stehen zur Verfügung. WC-Anlagen befinden sich im angrenzenden Gebäude und sind in der Regel bis 20.00 Uhr zugänglich.\n\nEine Reservation ist telefonisch oder per E-Mail möglich bei Patrick Schwager, Amt für Sicherheit, Stadt Weinfelden.\n\nhttps://www.weinfelden.ch/\n\nKontakt\nStadtverwaltung Weinfelden\nAmt für Sicherheit\nSchwager Patrick\nFrauenfelderstrasse 8\n8570 Weinfelden\n0041 71 626 83 25\n\nVerfügbarkeit / Datum, Zeit\n1.1.2011 -  \n\nPreis\nfür nicht kommerzielle Anbieter kostenlos, je nach Veranstaltung.\n\n\nDas Angebot im Detail: https://www.guidle.com/angebote/344513637/marktplatz_weinfelden/weinfelden\nQuelle: https://www.guidle.com
SUMMARY:Marktplatz Weinfelden
PRIORITY:5
X-MICROSOFT-CDO-IMPORTANCE:1
CLASS:PUBLIC
BEGIN:VALARM
TRIGGER:-P1D
ACTION:DISPLAY
DESCRIPTION:Reminder
END:VALARM
END:VEVENT
END:VCALENDAR