BEGIN:VCALENDAR
PRODID:-//Microsoft Corporation//Outlook 11.0 MIMEDIR//EN
VERSION:2.0
METHOD:PUBLISH
BEGIN:VEVENT
DTSTART:20260807
LOCATION:Hafenplatz, 8280 Kreuzlingen
TRANSP:OPAQUE
RRULE:FREQ=WEEKLY;INTERVAL=1;UNTIL=20260809;WKST=MO;BYDAY=MO,TU,WE,TH,FR,SA,SU
UID:cafeeec7-6b46-45c1-818c-5b22549c865c-0
DTSTAMP:20260807T120000
DESCRIPTION:Rund um den fantastischen Feuerwerk-Höhepunkt am Samstagabend, wartet von Freitag bis Sonntag auch in diesem Jahr wieder ein Programm voller Auftritte, Spass und Spiel für Kinder sowie vielfältige Streetfood-Leckereien. DJs und Live-Musik laden zudem Tag und Nacht zum Tanzen ein. Im Kinderland begeistern attraktive Aktivitäten die kleinen Gäste des Familienevents direkt am Bodenseeufer, das traditionell den krönenden Abschluss der Thurgauer Sommerferien bildet.\n\nDas gesamte Programm gibt es ab Ende Juli auf fantastical.ch/programm. \n\nhttps://fantastical.ch\n\nKontakt\nFantastical\nVerein Kreuzlinger Seenachtsfest\nKonstanzerstrasse 3\n8280 Kreuzlingen\n+41 71 678 80 14\n\nVerfügbarkeit / Datum, Zeit\n7.8.2026 - 9.8.2026 \n\nPreis\nTickets ab CHF 10.00 pro Person\n\nVorverkauf\nTickets sind nur online oder an der Tageskasse erhältlich. \nhttps://fantastical.ch/tickets/\n\n\nDas Angebot im Detail: https://www.guidle.com/angebote/366769130/kreuzlinger_seenachtfest_fantastical/kreuzlingen\nQuelle: https://www.guidle.com
SUMMARY:Kreuzlinger Seenachtfest Fantastical
PRIORITY:5
X-MICROSOFT-CDO-IMPORTANCE:1
CLASS:PUBLIC
BEGIN:VALARM
TRIGGER:-P1D
ACTION:DISPLAY
DESCRIPTION:Reminder
END:VALARM
END:VEVENT
END:VCALENDAR