BEGIN:VCALENDAR
PRODID:-//Microsoft Corporation//Outlook 11.0 MIMEDIR//EN
VERSION:2.0
METHOD:PUBLISH
BEGIN:VEVENT
DTSTART:20260421T100000
DTEND:20261101T170000
LOCATION:Schloss Habsburg Schlossgasse 30, 5245 Habsburg
TRANSP:OPAQUE
RRULE:FREQ=WEEKLY;INTERVAL=1;UNTIL=20261101T170000;WKST=MO;BYDAY=TU,WE,TH,FR,SA,SU
UID:60db60c0-5323-44b2-b831-b4ae55161a75-0
DTSTAMP:20260421T100000
DESCRIPTION:Auf Schloss Habsburg legten die Habsburger vor rund 1000 Jahren den Grundstein ihres Weltreiches. Heute vermittelt Museum Aargau hier die Geschichte der Habsburger interaktiv und erlebnisorientiert.\n\nDer "Habsburger Königsweg" zeichnet an sechs Audiostationen den Aufstieg der Habsburger zur Weltmacht nach. Während die Ruine der Vorderen Burg und weitere Bereiche besichtigt werden können, vermittelt im Turm eine kleine Ausstellung die Bau- und Siedlungsgeschichte. Der virtuelle Rundflug mit VR-Brille zeigt zudem die imposante Grösse der Burg um das Jahr 1200.\n\nMuseum Aargau bietet für Gruppen und Schulen thematische Führungen sowie szenische Esstheater auf Schloss Habsburg an. Regelmässig finden Veranstaltungen statt. Mit dem Schlossrestaurant und der traumhaften Aussicht ist das Schloss zudem ein ideales Ausflugsziel für Wandergruppen und Familien.\n\nhttps://www.schlosshabsburg.ch\n\nKontakt\nSchloss Habsburg - Museum Aargau\n5245 Habsburg\n0848 871 200\n\nVerfügbarkeit / Datum, Zeit\n1.4.2026 - 1.11.2026 10:00 - 17:00 Di, Mi, Do, Fr, Sa, So\n25.5.2026 10:00 - 17:00\n\nNovember bis März: Winterbetrieb (geöffnet während der Betriebszeiten des Schlossrestaurants)\n\nPreis\nEintritt frei\n\n\nDas Angebot im Detail: https://www.guidle.com/angebote/44658331/schloss_habsburg/habsburg\nQuelle: https://www.guidle.com
SUMMARY:Schloss Habsburg
PRIORITY:5
X-MICROSOFT-CDO-IMPORTANCE:1
CLASS:PUBLIC
BEGIN:VALARM
TRIGGER:-P1D
ACTION:DISPLAY
DESCRIPTION:Reminder
END:VALARM
END:VEVENT
BEGIN:VEVENT
DTSTART:20260421T100000
DTEND:20261101T170000
LOCATION:Schloss Habsburg Schlossgasse 30, 5245 Habsburg
TRANSP:OPAQUE
RRULE:FREQ=WEEKLY;INTERVAL=1;UNTIL=20261101T170000;WKST=MO;BYDAY=TU,WE,TH,FR,SA,SU
UID:60db60c0-5323-44b2-b831-b4ae55161a75-1
DTSTAMP:20260421T100000
DESCRIPTION:Auf Schloss Habsburg legten die Habsburger vor rund 1000 Jahren den Grundstein ihres Weltreiches. Heute vermittelt Museum Aargau hier die Geschichte der Habsburger interaktiv und erlebnisorientiert.\n\nDer "Habsburger Königsweg" zeichnet an sechs Audiostationen den Aufstieg der Habsburger zur Weltmacht nach. Während die Ruine der Vorderen Burg und weitere Bereiche besichtigt werden können, vermittelt im Turm eine kleine Ausstellung die Bau- und Siedlungsgeschichte. Der virtuelle Rundflug mit VR-Brille zeigt zudem die imposante Grösse der Burg um das Jahr 1200.\n\nMuseum Aargau bietet für Gruppen und Schulen thematische Führungen sowie szenische Esstheater auf Schloss Habsburg an. Regelmässig finden Veranstaltungen statt. Mit dem Schlossrestaurant und der traumhaften Aussicht ist das Schloss zudem ein ideales Ausflugsziel für Wandergruppen und Familien.\n\nhttps://www.schlosshabsburg.ch\n\nKontakt\nSchloss Habsburg - Museum Aargau\n5245 Habsburg\n0848 871 200\n\nVerfügbarkeit / Datum, Zeit\n1.4.2026 - 1.11.2026 10:00 - 17:00 Di, Mi, Do, Fr, Sa, So\n25.5.2026 10:00 - 17:00\n\nNovember bis März: Winterbetrieb (geöffnet während der Betriebszeiten des Schlossrestaurants)\n\nPreis\nEintritt frei\n\n\nDas Angebot im Detail: https://www.guidle.com/angebote/44658331/schloss_habsburg/habsburg\nQuelle: https://www.guidle.com
SUMMARY:Schloss Habsburg
PRIORITY:5
X-MICROSOFT-CDO-IMPORTANCE:1
CLASS:PUBLIC
BEGIN:VALARM
TRIGGER:-P1D
ACTION:DISPLAY
DESCRIPTION:Reminder
END:VALARM
END:VEVENT
END:VCALENDAR