BEGIN:VCALENDAR
PRODID:-//Microsoft Corporation//Outlook 11.0 MIMEDIR//EN
VERSION:2.0
METHOD:PUBLISH
BEGIN:VEVENT
DTSTART:20260425T140000
DTEND:20260425T200000
LOCATION:Ortsmuseum im Schloss Dottenwil ., 9300 Wittenbach
TRANSP:OPAQUE
RRULE:FREQ=WEEKLY;INTERVAL=1;WKST=MO;BYDAY=SA
UID:ef0eb759-9162-432f-8efb-1c03af8b132f-0
DTSTAMP:20260425T140000
DESCRIPTION:Das Ortsmuseum ist seit 1998 im historischen Schloss Dottenwil (1543-1597) untergebracht. Die Ausstellungen widmen sich dem Brauchtum, der Orts- und Regionalgeschichte. Schwerpunktthemen sind einfaches Wohnen im 18. und 19. Jh., herrschaftliches Wohnen (1880-1920) in Wittenbach, alte Musikinstrumente in einem Biedermeierzimmer und altes Schul- und Mädchen-Handarbeitszimmer. In der Remise befinden sich Einrichtungen des alten Handwerks in Wittenbach: des Schmieds, Schreiners, Druckers, Zieglers, Sattlers, Schneiders, Wagners und des Zimmermanns sowie alte Waagen. Ebenso Exponate zur religiösen Volkskunst und Bräuchen. Besondere Bedeutung besitzt das “Heilige Grab“ aus der Pfarrkirche St. Ulrich (1890/1935), das bis 1952 noch in Gebrauch war. In der Galerie werden Wechselausstellungen zu zeitgenössisch-künstlerischen Themen präsentiert.\n\nhttp://www.dottenwil.ch/index.php/museum.html\n\nKontakt\nOrtsmuseum im Schloss Dottenwil\n9300 Wittenbach\n071 298 21 66 (privat, A. Zwickl)\n\nVerfügbarkeit / Datum, Zeit\n14.2.2026 -  14:00 - 20:00 Sa\n14.2.2026 -  10:00 - 18:00 So\n\nPreis\nEintritt frei\n\n\nDas Angebot im Detail: https://www.guidle.com/angebote/44658811/ortsmuseum_im_schloss_dottenwil/wittenbach\nQuelle: https://www.guidle.com
SUMMARY:Ortsmuseum im Schloss Dottenwil
PRIORITY:5
X-MICROSOFT-CDO-IMPORTANCE:1
CLASS:PUBLIC
BEGIN:VALARM
TRIGGER:-P1D
ACTION:DISPLAY
DESCRIPTION:Reminder
END:VALARM
END:VEVENT
END:VCALENDAR