BEGIN:VCALENDAR
PRODID:-//Microsoft Corporation//Outlook 11.0 MIMEDIR//EN
VERSION:2.0
METHOD:PUBLISH
BEGIN:VEVENT
DTSTART:20260401T100000
DTEND:20260930T170000
LOCATION:Arenenberg I Napoleonmuseum Thurgau Schloss und Park Arenenberg, 8268 Salenstein
TRANSP:OPAQUE
RRULE:FREQ=WEEKLY;INTERVAL=1;UNTIL=20260930T170000;WKST=MO;BYDAY=MO,TU,WE,TH,FR,SA,SU
UID:73ffeda4-3915-4a83-a22d-b2459ec2e7e4-0
DTSTAMP:20260401T100000
DESCRIPTION:Im Napoleonmuseum im Schloss können die sorgfältig restaurierten, original ausgestatteten Wohnräume von Königin Hortense und der kaiserlichen Familie Napoleons III. besichtigt werden. Prachtvolle Zeltsalons, private Rückzugsräume, Zofenzimmer und kostbare Gemälde sind hier zu sehen. Als Hortense das Schloss Arenenberg bezog, gestaltete sie nicht nur die Salons des Hauses neu. Rundherum liess sie einen Landschaftspark anlegen, der auf geschwungenen Pfaden immer wieder neue Perspektiven eröffnet.\n\nJährliche Sonderausstellungen machen den Besuch des Napoleonmuseums immer wieder aufs Neue zum Erlebnis.\n\nhttp://www.napoleonmuseum.ch\n\nKontakt\nNapoleonmuseum Arenenberg\nArenenberg 1\n8268 Salenstein\n0041 58 345 74 10 (Museum)\n\nVerfügbarkeit / Datum, Zeit\n1.4.2026 - 30.9.2026 10:00 - 17:00\n\nPreis\nEinzelperson: CHF 15.00\n\nKinder und Jugendliche (6 bis 16 Jahre): CHF 5.00\n\nFamilien (2 Erwachsene und 2 Kinder): CHF 32.00 Jahreskarte: CHF 35.00\n\n\nDas Angebot im Detail: https://www.guidle.com/angebote/44659056/napoleonmuseum_arenenberg/salenstein\nQuelle: https://www.guidle.com
SUMMARY:Napoleonmuseum Arenenberg
PRIORITY:5
X-MICROSOFT-CDO-IMPORTANCE:1
CLASS:PUBLIC
BEGIN:VALARM
TRIGGER:-P1D
ACTION:DISPLAY
DESCRIPTION:Reminder
END:VALARM
END:VEVENT
END:VCALENDAR