BEGIN:VCALENDAR
PRODID:-//Microsoft Corporation//Outlook 11.0 MIMEDIR//EN
VERSION:2.0
METHOD:PUBLISH
BEGIN:VEVENT
DTSTART:20260401T090000
DTEND:20261031T190000
LOCATION:Château de Chillon Avenue de Chillon 21, 1820 Veytaux
TRANSP:OPAQUE
RRULE:FREQ=WEEKLY;INTERVAL=1;UNTIL=20261031T190000;WKST=MO;BYDAY=MO,TU,WE,TH,FR,SA,SU
UID:5839a5c6-55ed-4839-adb7-ce173e2b3b37-0
DTSTAMP:20260401T090000
DESCRIPTION:Das auf einer Felseninsel im Genfersee errichtete und von allen Seiten von Bergen bedrängte Schloss Chillon - dessen älteste schriftliche Erwähnung aus dem Jahr 1150 stammt - befand sich an einer strategischen Stelle, um den Übergang zwischen Nord- und Südeuropa zu kontrollieren. Seine Mauern beherbergen eine Sammlung von Möbeln aus der Epoche, Waffen und Wandteppichen. Die Besucher entdecken eine Abfolge von drei Innenhöfen, können den Wehrgang begehen und die Gemächer des Schlosses, seine Empfangsräume und die Kapelle der Grafen von Savoyen besichtigen. Der Abstieg in die unterirdischen Gänge erinnert daran, dass das Schloss auch als Gefängnis diente, und ermöglicht den Zugang zur Zelle von François Bonivard. Acht Minifilme, die auf Terminals in verschiedenen Räumen des Schlosses zu sehen sind, mittelalterliche Silhouettenprojektionen im Untergrund und ein mit Ton unterlegter Waffensaal im Kerker erweitern den Besichtigungsparcours.\n\n\nHinweis: Dieser Text wurde von einer Software für maschinelle Übersetzungen und nicht von einem menschlichen Übersetzer übersetzt. Er kann Übersetzungsfehler aufweisen.\n\nhttps://www.chillon.ch\n\nKontakt\nChâteau de Chillon\nAvenue de Chillon 21\n1820 Veytaux\n021 966 89 10\n\nVerfügbarkeit / Datum, Zeit\n1.4.2026 - 31.10.2026 09:00 - 19:00\n\nApril bis Oktober von 9:00 bis 18:00 (letzter Eintritt um 17:00 Uhr)\n\nNovember bis März von 10.00 bis 17:00 (letzter Eintritt um 16:00 Uhr)\n\nPreis\nEINZELBESUCHER Eintritt\nErwachsene CHF   13.50\nKinder (6 bis 15 Jahre) CHF    7.00\nErmässigter Preis (bei Vorlage eines gültigen Ausweises): Studierende, Lehrnende, Senioren, IV, lokale Gästerkarte,, Schweizer Militär in Uniform CHF   11.50\nFamilien (2 Erwachsene und bis zu 5 Kinder) CHF  35.00\nRiviera Card Erwachsene CHF    6.75\nRiviera Card Kind CHF    3.50\nSwiss Travel Pass, Schweizer Museumspass, ICOM gratis\n\nGRUPPEN (AB 15 PERSONEN)\n\nErwachsene CHF 10.50\nKinder (6 bis 15 Jahren) CHF 6.00\n\nWir bieten zahlreiche Schlossführungen ab CHF 95.00/Führung an (max. 40 Personen pro Führung, verfügbar in 10 Sprachen).\n\n\nDas Angebot im Detail: https://www.guidle.com/angebote/44659216/schloss_chillon/veytaux\nQuelle: https://www.guidle.com
SUMMARY:Schloss Chillon
PRIORITY:5
X-MICROSOFT-CDO-IMPORTANCE:1
CLASS:PUBLIC
BEGIN:VALARM
TRIGGER:-P1D
ACTION:DISPLAY
DESCRIPTION:Reminder
END:VALARM
END:VEVENT
END:VCALENDAR