BEGIN:VCALENDAR
PRODID:-//Microsoft Corporation//Outlook 11.0 MIMEDIR//EN
VERSION:2.0
METHOD:PUBLISH
BEGIN:VEVENT
DTSTART:20260423T130000
DTEND:20260423T180000
LOCATION:Centre d'Art Contemporain Genève Rue de Chantepoulet 1-3, 1201 Genève
TRANSP:OPAQUE
RRULE:FREQ=WEEKLY;INTERVAL=1;WKST=MO;BYDAY=WE,TH,FR,SA,SU
UID:1df4971f-f93d-4943-a4bd-17f20689eac7-0
DTSTAMP:20260423T130000
DESCRIPTION:Während der Renovierung seiner Ausstellungsräume (2025–2029) bezieht das Centre L’Arcade, einen neuen Standort im Herzen von Genf, nur wenige Schritte vom Bahnhof und dem legendären Kino Plaza entfernt. Dieser zur Stadt hin offene Raum beherbergt Ausstellungen in neuartigen Formaten und bietet eine Plattform für zeitgenössisches Schaffen. Parallel dazu verfolgt das Centre ein reichhaltiges Programm außerhalb seiner Mauern und online, im Dialog mit Schweizer und internationalen Institutionen.\n\nhttp://www.centre.ch\n\nKontakt\nCentre d'Art Contemporain Genève\nRue des Vieux-Grenadiers 10\n1211 Genève 8\n022 329 18 42\n\nVerfügbarkeit / Datum, Zeit\n1.2.2026 -  13:00 - 18:00 Mi, Do, Fr, Sa, So\n\nMittwoch bis Sonntag (13:00 – 18:00 Uhr)\n\nPreis\nAusstellungen in L'Arcade\n5 CHF\n0 CHF (Amis du Centre, IV, ICOM, AICA, AHV, Arbeitslose, Lehrkräfte & Studierende/Auszubildende, Künstler)\n\nMitgliedskarte: 10 CHF (freier Eintritt zu allen Ausstellungen, außer Veranstaltungen, vor Ort erhältlich)\n\nEinmalige Veranstaltungen in L'Arcade\nPauschalpreis 10 CHF\n\n\nDas Angebot im Detail: https://www.guidle.com/angebote/44660511/centre_dart_contemporain_geneve/geneve\nQuelle: https://www.guidle.com
SUMMARY:Centre d'Art Contemporain Genève
PRIORITY:5
X-MICROSOFT-CDO-IMPORTANCE:1
CLASS:PUBLIC
BEGIN:VALARM
TRIGGER:-P1D
ACTION:DISPLAY
DESCRIPTION:Reminder
END:VALARM
END:VEVENT
END:VCALENDAR