BEGIN:VCALENDAR
PRODID:-//Microsoft Corporation//Outlook 11.0 MIMEDIR//EN
VERSION:2.0
METHOD:PUBLISH
BEGIN:VEVENT
DTSTART:20260424T120000
LOCATION:Kloster St. Urban Kloster St. Urban, 4915 St. Urban
TRANSP:OPAQUE
RRULE:FREQ=DAILY;INTERVAL=1
UID:49450946-5d49-4add-b9ab-5e1301a42277-0
DTSTAMP:20260424T120000
DESCRIPTION:Die ehemalige Klosterkirche St. Urban ist ein eindrückliches Beispiel barocker und zisterziensischer Baukunst. Eingebunden in die weitläufige Klosteranlage mit ihren eindrücklichen Bauten ist die grossartige Kirche, deren Zwillingstürme weithin sichtbar sind. Nicht nur das weltberühmte Chorgestühl ist eine Reise wert. Auf geführten Besichtigungen bietet sich die Gelegenheit, über das grösste und schönste Barock-Treppenhaus der Schweiz zum prunkvollen Festsaal hinauf zu steigen und einen Einblick in die prächtige Bibliothek zu erhalten. Ein spannender Kontrapunkt zur barocken Kulturstätte setzt art-st-urban. Auf dem Areal des ehemaligen Klosters befindet sich ein attraktiver Skulpturenpark.\n\nhttps://www.st-urban.ch\n\nKontakt\nKloster St. Urban\n4915 St. Urban\n062 918 55 55\n\nPreis\nGruppentarife\n\n\nDas Angebot im Detail: https://www.guidle.com/angebote/44661121/kloster_st_urban/st_urban\nQuelle: https://www.guidle.com
SUMMARY:Kloster St. Urban
PRIORITY:5
X-MICROSOFT-CDO-IMPORTANCE:1
CLASS:PUBLIC
BEGIN:VALARM
TRIGGER:-P1D
ACTION:DISPLAY
DESCRIPTION:Reminder
END:VALARM
END:VEVENT
END:VCALENDAR