BEGIN:VCALENDAR
PRODID:-//Microsoft Corporation//Outlook 11.0 MIMEDIR//EN
VERSION:2.0
METHOD:PUBLISH
BEGIN:VEVENT
DTSTART:20260422T100000
DTEND:20260422T170000
LOCATION:Musée international d'horlogerie Rue des Musées 29, 2300 La Chaux-de-Fonds
TRANSP:OPAQUE
RRULE:FREQ=WEEKLY;INTERVAL=1;WKST=MO;BYDAY=TU,WE,TH,FR,SA,SU
UID:820f40ea-3442-47d8-898b-fb70be676fd1-0
DTSTAMP:20260422T100000
DESCRIPTION:Das Musée international d’horlogerie pflegt und präsentiert eine reichhaltige Sammlung über die Uhrmacherei von ihrem Ursprung bis zum heutigen Tag. Pendeluhren und Uhren sind in einem aussergewöhnlichen architektonischen und museografischen Rahmen ausgestellt. Die Erforschung der Uhrmacherei, ein Gebiet, das der Schweiz und vor allem dem Neuenburger Jura Ruhm einbrachte, erlaubt die Entdeckung von zahlreichen Schätzen, dies dank dem Einfallsreichtum der Menschen. Die Suche nach der Präzision konnte sich mit der künstlerischen Perfektion vereinen, wie die ausgestellten Objekte zeigen.\n\nhttp://www.mih.ch\n\nKontakt\nMusée international d'horlogerie\nRue des Musées 29\n2300 La Chaux-de-Fonds\n032 967 68 61 (musée)\n\nVerfügbarkeit / Datum, Zeit\n10.4.2026 -  10:00 - 17:00 Di, Mi, Do, Fr, Sa, So\n\nDienstag bis Sonntag: 10.00 - 17.00 Uhr. Geschlossen am 1. Januar, 24., 25. und 31. Dezember.\n\nPreis\nCHF 15.00 Erwachsenen-Tarif\n\nCHF 12.50 reduzierter Tarif (AHV, Gruppe, Student)\n\nCHF 30.00 Familien Tarif (Eltern und Kinder unter 16)\n\n\nDas Angebot im Detail: https://www.guidle.com/angebote/44661626/musee_international_dhorlogerie/la_chaux-de-fonds\nQuelle: https://www.guidle.com
SUMMARY:Musée international d'horlogerie
PRIORITY:5
X-MICROSOFT-CDO-IMPORTANCE:1
CLASS:PUBLIC
BEGIN:VALARM
TRIGGER:-P1D
ACTION:DISPLAY
DESCRIPTION:Reminder
END:VALARM
END:VEVENT
END:VCALENDAR