BEGIN:VCALENDAR
PRODID:-//Microsoft Corporation//Outlook 11.0 MIMEDIR//EN
VERSION:2.0
METHOD:PUBLISH
BEGIN:VEVENT
DTSTART:20260420T120000
LOCATION:Bahnhofstrasse 1, 2505 Biel / Bienne
TRANSP:OPAQUE
RRULE:FREQ=DAILY;INTERVAL=1
UID:c4b11c11-0e55-436b-9c52-3c86443fee8b-0
DTSTAMP:20260420T120000
DESCRIPTION:Wir sind ein junges motiviertes Team mit dem Ziel, das Wissen über die Erste Hilfe interessant und einfach zu vermitteln. Ausserdem ist es uns wichtig, dass während des Kurses eine lockere Atmosphäre besteht, sodass wir alle in einer angenehmen Lernatmosphäre zusammen den Kursinhalt erarbeiten können.\n\nhttps://nohe.ch/nothelferkurs-biel/\n\nKontakt\nnohe Schweiz GmbH\nSulgenrain 12\n3007 Bern\n0315112926\n\nPreis\nCHF 150.00 / Kurs\n\nVorverkauf\nhttps://nohe.ch/nothelferkurs-biel/\n\n\nDas Angebot im Detail: https://www.guidle.com/angebote/529326460/nothelferkurs_fur_angehende_fuhrerscheinerwerbende_in_biel/biel__bienne\nQuelle: https://www.guidle.com
SUMMARY:Nothelferkurs für angehende Führerscheinerwerbende in Biel!
PRIORITY:5
X-MICROSOFT-CDO-IMPORTANCE:1
CLASS:PUBLIC
BEGIN:VALARM
TRIGGER:-P1D
ACTION:DISPLAY
DESCRIPTION:Reminder
END:VALARM
END:VEVENT
END:VCALENDAR