BEGIN:VCALENDAR
PRODID:-//Microsoft Corporation//Outlook 11.0 MIMEDIR//EN
VERSION:2.0
METHOD:PUBLISH
BEGIN:VEVENT
DTSTART:20110101
LOCATION:Park Inn by Radisson Zürich Airport Flughofstrasse 75, 8153 Rümlang
TRANSP:OPAQUE
RRULE:FREQ=WEEKLY;INTERVAL=1;WKST=MO;BYDAY=MO,TU,WE,TH,FR,SA,SU
UID:30cfb711-c64c-4fe1-923f-42424674f669-0
DTSTAMP:20110101T120000
DESCRIPTION:Die Elite-Betten mit dem europäischen Umweltzeichen versprechen eine erholsame Nacht. An der Smartphone-Dockingstation können Sie derweil Ihre Mobilgeräte aufladen. Genießen Sie die ausgezeichnete Küche im hoteleigenen Restaurant und nutzen Sie die flexiblen Meetingräume für gesellschaftliche oder geschäftliche Events.\n\nhttp://www.parkinn.ch\n\nKontakt\nPark Inn by Radisson Zürich Airport\nFlughofstrasse 75\n8153 Rümlang\n044 828 86 86\n044 828 86 87\n\nVerfügbarkeit / Datum, Zeit\n1.1.2011 -  \n\n\nDas Angebot im Detail: https://www.guidle.com/angebote/53360702/park_inn_by_radisson_zurich_airport/rumlang\nQuelle: https://www.guidle.com
SUMMARY:Park Inn by Radisson Zürich Airport
PRIORITY:5
X-MICROSOFT-CDO-IMPORTANCE:1
CLASS:PUBLIC
BEGIN:VALARM
TRIGGER:-P1D
ACTION:DISPLAY
DESCRIPTION:Reminder
END:VALARM
END:VEVENT
END:VCALENDAR