BEGIN:VCALENDAR
PRODID:-//Microsoft Corporation//Outlook 11.0 MIMEDIR//EN
VERSION:2.0
METHOD:PUBLISH
BEGIN:VEVENT
DTSTART:20260422T120000
LOCATION:Ritmo Cubano Neue Winterthurerstrasse 30a, 8305 Dietlikon
TRANSP:OPAQUE
RRULE:FREQ=DAILY;INTERVAL=1
UID:8e4f5835-3830-474d-a9bb-0b752bdf7680-0
DTSTAMP:20260422T120000
DESCRIPTION:Jetzt Anmelden. Kurse starten nur bei genügend Anmeldungen.\n\nhttp://www.ritmo-cubano.ch/tanzkurse.html\n\nKontakt\nTanzschule Ritmo Cubano\nYoli Meier\nTanzlehrerin\nNeue Winterthurerstrasse 30a\n8305 Dietlikon\n078 663 87 86\n\nPreis\nViele Preise und Abos sind auf der Website ersichtlich unter:\nhttp://www.ritmo-cubano.ch/preise.html\nPrivatstunde: Fr. 80.00, Paarstunde Fr. 120.00\n\n\nVorverkauf\nwww.ritmo-cubano.ch\n\n\nDas Angebot im Detail: https://www.guidle.com/angebote/591100640/afro_bachata_son_salsa_salsa_lady_style_bis_z_wie_zumba/dietlikon\nQuelle: https://www.guidle.com
SUMMARY:Afro, Bachata, Son, Salsa, Salsa Lady Style bis Z wie Zumba
PRIORITY:5
X-MICROSOFT-CDO-IMPORTANCE:1
CLASS:PUBLIC
BEGIN:VALARM
TRIGGER:-P1D
ACTION:DISPLAY
DESCRIPTION:Reminder
END:VALARM
END:VEVENT
END:VCALENDAR