BEGIN:VCALENDAR
PRODID:-//Microsoft Corporation//Outlook 11.0 MIMEDIR//EN
VERSION:2.0
METHOD:PUBLISH
BEGIN:VEVENT
DTSTART:20260424T120000
LOCATION:Mühlestrasse 16, 8280 Kreuzlingen
TRANSP:OPAQUE
RRULE:FREQ=DAILY;INTERVAL=1
UID:576824b1-77ca-409a-b48e-6baeaac86eaa-0
DTSTAMP:20260424T120000
DESCRIPTION:\n\nKontakt\nPfadiheim Alte Mühle\nMühlestrasse 16\n8280 Kreuzlingen\n071 672 54 71\n\n\nDas Angebot im Detail: https://www.guidle.com/angebote/642171534/pfadiheim_alte_muhle/kreuzlingen\nQuelle: https://www.guidle.com
SUMMARY:Pfadiheim Alte Mühle
PRIORITY:5
X-MICROSOFT-CDO-IMPORTANCE:1
CLASS:PUBLIC
BEGIN:VALARM
TRIGGER:-P1D
ACTION:DISPLAY
DESCRIPTION:Reminder
END:VALARM
END:VEVENT
END:VCALENDAR