BEGIN:VCALENDAR
PRODID:-//Microsoft Corporation//Outlook 11.0 MIMEDIR//EN
VERSION:2.0
METHOD:PUBLISH
BEGIN:VEVENT
DTSTART:20110101
LOCATION:Schloss Girsberg, Kulturscheune Girsbergstrasse 390, 8280 Kreuzlingen
TRANSP:OPAQUE
RRULE:FREQ=WEEKLY;INTERVAL=1;WKST=MO;BYDAY=MO,TU,WE,TH,FR,SA,SU
UID:6b07b8d5-8b41-4d83-9c77-3a1165616186-0
DTSTAMP:20110101T120000
DESCRIPTION:Geeignet für: Kulturelle Veranstaltungen, Hochzeiten, Bälle, Feiern etc.\nPlatzangebot: bis 300 Personen\n\nhttp://www.schloss-girsberg.ch\n\nKontakt\nSchloss Girsberg\n8280 Kreuzlingen\n071 672 46 55\n\nVerfügbarkeit / Datum, Zeit\n1.1.2011 -  \n\n\nDas Angebot im Detail: https://www.guidle.com/angebote/646016962/schloss_girsberg_kulturscheune/kreuzlingen\nQuelle: https://www.guidle.com
SUMMARY:Schloss Girsberg: Kulturscheune
PRIORITY:5
X-MICROSOFT-CDO-IMPORTANCE:1
CLASS:PUBLIC
BEGIN:VALARM
TRIGGER:-P1D
ACTION:DISPLAY
DESCRIPTION:Reminder
END:VALARM
END:VEVENT
END:VCALENDAR