BEGIN:VCALENDAR
PRODID:-//Microsoft Corporation//Outlook 11.0 MIMEDIR//EN
VERSION:2.0
METHOD:PUBLISH
BEGIN:VEVENT
DTSTART:20260425T120000
LOCATION:Zingelstrasse 3, 6377 Seelisberg
TRANSP:OPAQUE
RRULE:FREQ=DAILY;INTERVAL=1
UID:ed7a1aea-7eb8-40b2-a4d1-55a6a7198a73-0
DTSTAMP:20260425T120000
DESCRIPTION:In unserer Bergkäserei ist auch ein kleiner Laden integriert. Hier bieten wir Ihnen nebst unseren eigenen Bergkäse auch eine auserlesene Auswahl weiterer köstlicher Produkte. Dieser Laden ist rund um die Uhr geöffnet.\n\nhttp://www.bergkaese.ch\n\nKontakt\nBergkäserei Aschwanden AG\nSelina Aschwanden\nZingelstrasse 3\n6377 Seelisberg\n+41 41 820 30 60\n\n24h geöffnet\nSamstag: 9:00 - 12:00 (bedient)\n\n\nDas Angebot im Detail: https://www.guidle.com/angebote/646133665/hofladen_bergkaserei_aschwanden_ag/seelisberg\nQuelle: https://www.guidle.com
SUMMARY:Hofladen Bergkäserei Aschwanden AG
PRIORITY:5
X-MICROSOFT-CDO-IMPORTANCE:1
CLASS:PUBLIC
BEGIN:VALARM
TRIGGER:-P1D
ACTION:DISPLAY
DESCRIPTION:Reminder
END:VALARM
END:VEVENT
END:VCALENDAR