BEGIN:VCALENDAR
PRODID:-//Microsoft Corporation//Outlook 11.0 MIMEDIR//EN
VERSION:2.0
METHOD:PUBLISH
BEGIN:VEVENT
DTSTART:20260420T120000
LOCATION:Klosterhof, 5630 Muri AG
TRANSP:OPAQUE
RRULE:FREQ=DAILY;INTERVAL=1
UID:59387ed5-5041-482d-886e-56799b519529-0
DTSTAMP:20260420T120000
DESCRIPTION:\n\nhttp://www.christbaum-selberschneiden.ch\n\nKontakt\nKlosterhof\nJules Frey\nKlosterhof\n5630 Muri\n056 664 29 03\n\n\nDas Angebot im Detail: https://www.guidle.com/angebote/646135291/hofladen_klosterhof/muri_ag\nQuelle: https://www.guidle.com
SUMMARY:Hofladen Klosterhof
PRIORITY:5
X-MICROSOFT-CDO-IMPORTANCE:1
CLASS:PUBLIC
BEGIN:VALARM
TRIGGER:-P1D
ACTION:DISPLAY
DESCRIPTION:Reminder
END:VALARM
END:VEVENT
END:VCALENDAR