BEGIN:VCALENDAR
PRODID:-//Microsoft Corporation//Outlook 11.0 MIMEDIR//EN
VERSION:2.0
METHOD:PUBLISH
BEGIN:VEVENT
DTSTART:20260424T120000
LOCATION:Byfang 21, 3124 Belpberg
TRANSP:OPAQUE
RRULE:FREQ=DAILY;INTERVAL=1
UID:44660367-8c42-405b-90cd-799fd4dcfcbd-0
DTSTAMP:20260424T120000
DESCRIPTION:An wunderschöner Lage, mit Aussicht in das Aaretal bis hin zu den Berner Alpen liegt unser Betrieb.\n\nhttp://www.vomByfang.ch\n\nKontakt\nByfang\nEva & René Wyttenbach\nByfang 21\n3124 Belpberg\n\n\nDas Angebot im Detail: https://www.guidle.com/angebote/646140052/hofladen_byfang/belpberg\nQuelle: https://www.guidle.com
SUMMARY:Hofladen Byfang
PRIORITY:5
X-MICROSOFT-CDO-IMPORTANCE:1
CLASS:PUBLIC
BEGIN:VALARM
TRIGGER:-P1D
ACTION:DISPLAY
DESCRIPTION:Reminder
END:VALARM
END:VEVENT
END:VCALENDAR