BEGIN:VCALENDAR
PRODID:-//Microsoft Corporation//Outlook 11.0 MIMEDIR//EN
VERSION:2.0
METHOD:PUBLISH
BEGIN:VEVENT
DTSTART:20260422T120000
LOCATION:Langwiesstrasse 1595, 8722 Kaltbrunn
TRANSP:OPAQUE
RRULE:FREQ=DAILY;INTERVAL=1
UID:4641d7d9-e1b6-4c3e-9960-eaed8eb24553-0
DTSTAMP:20260422T120000
DESCRIPTION:Unser Hofladen besteht aus zwei Teilen:\n\nEinerseits verkaufen wir am Milchautomaten unsere Milch während 24 Stunden pro Tag während 7 Tagen die Woche.\n\nAndererseits führen wir einen Selbstbedienungsschrank, wo Sie ebenfalls rund um die Uhr Eier, Beeren, Obst und Nüsse, Sirup, Punsch und Süssmoste sowie Konfitüren, Latwergen und Gelees beziehen können.\n\nhttp://www.hof-langwies.ch\n\nKontakt\nHof Langwies\nBrigitte & Daniel Steiner\nLangwiesstrasse 1595\n8722 Kaltbrunn\n\n24/7\n\n\nDas Angebot im Detail: https://www.guidle.com/angebote/646140922/hofladen_hof_langwies/kaltbrunn\nQuelle: https://www.guidle.com
SUMMARY:Hofladen Hof Langwies
PRIORITY:5
X-MICROSOFT-CDO-IMPORTANCE:1
CLASS:PUBLIC
BEGIN:VALARM
TRIGGER:-P1D
ACTION:DISPLAY
DESCRIPTION:Reminder
END:VALARM
END:VEVENT
END:VCALENDAR