BEGIN:VCALENDAR
PRODID:-//Microsoft Corporation//Outlook 11.0 MIMEDIR//EN
VERSION:2.0
METHOD:PUBLISH
BEGIN:VEVENT
DTSTART:20260424T120000
LOCATION:Dorfstrasse 12, 3416 Affoltern im Emmental
TRANSP:OPAQUE
RRULE:FREQ=DAILY;INTERVAL=1
UID:1ec1215d-b002-4226-94e7-e7afe76fac38-0
DTSTAMP:20260424T120000
DESCRIPTION:Im Friedlis Buurhof Lädeli bieten wir unsere Hof-Produkte Fleisch, Eier, Milch, Kartoffeln und im Sommer was der Garten gerade so her gibt an. \nSaisonale Spezialitäten bereichern unser Angebot!!\n\nhttp://www.friedlisbuurehof.ch\n\nKontakt\nFriedlis Buurehof\nAlice & Hansueli Friedli\nDorfstrasse 12\n3416 Affoltern\n+41 79 583 04 70\n+41 76 208 97 39\n\nJeden Montag ab 9.00h \nim Friedlis Buurehof Lädeli "chüschtiges Buurebrot"\n\nFreitag ist "Fyrobigbrot"-Tag ab 16 Uhr erhältlich\n\nJeden Samstag ab 07.00h:\n"feini emmetaler Ankäzüpfä" & "urchiges UrDinkelbrot und UrDinkelzüpfä" mit Mehl aus eigenem Anbau hergestellt.\n\n\nDas Angebot im Detail: https://www.guidle.com/angebote/646145617/hofladen_friedlis_buurehof/affoltern_im_emmental\nQuelle: https://www.guidle.com
SUMMARY:Hofladen Friedlis Buurehof
PRIORITY:5
X-MICROSOFT-CDO-IMPORTANCE:1
CLASS:PUBLIC
BEGIN:VALARM
TRIGGER:-P1D
ACTION:DISPLAY
DESCRIPTION:Reminder
END:VALARM
END:VEVENT
END:VCALENDAR