BEGIN:VCALENDAR
PRODID:-//Microsoft Corporation//Outlook 11.0 MIMEDIR//EN
VERSION:2.0
METHOD:PUBLISH
BEGIN:VEVENT
DTSTART:20110101
LOCATION:Centro Italiano Kreuzlingen Viale Italia 1, 8280 Kreuzlingen
TRANSP:OPAQUE
RRULE:FREQ=WEEKLY;INTERVAL=1;WKST=MO;BYDAY=MO,TU,WE,TH,FR,SA,SU
UID:7b0ecbbd-9c79-42d6-9da5-7705ff99d06f-0
DTSTAMP:20110101T120000
DESCRIPTION:Geeignet für: Familienfeste, Vereinsanlässe, Sitzungen, Bankette etc.\nPlatzangebot: bis 80 Personen / Grosser Saal\n\nhttps://centroitalianokreuzlingen.ch/\n\nKontakt\nCentro Italiano Kreuzlingen\nViale Italia 1\n8280 Kreuzlingen\n071 688 46 30\n\nVerfügbarkeit / Datum, Zeit\n1.1.2011 -  \n\nPreis\nPreis auf Anfrage\n\n\nDas Angebot im Detail: https://www.guidle.com/angebote/646155267/centro_italiano_kreuzlingen/kreuzlingen\nQuelle: https://www.guidle.com
SUMMARY:Centro Italiano Kreuzlingen
PRIORITY:5
X-MICROSOFT-CDO-IMPORTANCE:1
CLASS:PUBLIC
BEGIN:VALARM
TRIGGER:-P1D
ACTION:DISPLAY
DESCRIPTION:Reminder
END:VALARM
END:VEVENT
END:VCALENDAR