BEGIN:VCALENDAR
PRODID:-//Microsoft Corporation//Outlook 11.0 MIMEDIR//EN
VERSION:2.0
METHOD:PUBLISH
BEGIN:VEVENT
DTSTART:20260302
LOCATION:Windegg 930, 9107 Urnäsch
TRANSP:OPAQUE
RRULE:FREQ=WEEKLY;INTERVAL=1;UNTIL=20260424;WKST=MO;BYDAY=MO,TU,WE,TH,FR,SA,SU
UID:457fb438-6dbf-4842-9473-640b040c4a7b-0
DTSTAMP:20260302T120000
DESCRIPTION:<b>Innenbereich</b>\n\nHeimelige Ferienwohnung im Appenzellerland, von Pro Infirmis als behindertengerechte Wohnung zertifiziert, inmitten von Alpakas und Lamas\n\nAbseits von Lärm und Hektik mit traumhafter Panoramasicht auf den Alpstein geniessen Sie hier entspannte Ferientage.\nIdeal für Familien, Paare, Senioren, Ruhesuchende, Geschäftsleute, Abenteuerfreudige, Naturfreunde usw. \n\nDie Ferienwohnung mit separatem Eingang liegt auf 950 m. ü. M. ausserhalb von Urnäsch.\n\nDie gemütliche Wohnung bietet eine moderne Küche, eine Stube und zwei Schlafzimmer. Ein grosszügiger Garten mit viel Sonne, schattenspendenden Obstbäumen und herrlichem Weitblick lädt zum Verweilen ein. Zahllose Wanderwege warten darauf, entdeckt zu werden. Im nahegelegenen Wald lädt ein Tipi (inkl. Feuerstelle) zu Spass und Abenteuern ein.\nFalls sich jemand von den warmen Augen meiner Alpakas und Lamas berühren lassen möchte, wohnen diese zauberhaften Tiere nur ein paar Schritte von der Ferienwohnungstür entfernt und können jederzeit beim Fressen, Summen und Geniessen beobachtet werden\nAuf Wunsch beraten wir Sie gerne nach Ihrer Ankunft über Ausflugsmöglichkeiten, Sehenswürdigkeiten und Aktivitäten im Appenzellerland.\nAb zwei Übernachtungen bieten wir die OSKAR Gästekarte an. Damit fahren Sie gratis öV und können von sehr vielen Rabatten profitieren.\n\nHerzlich willkommen!\n\nSonstige Sport- und Freizeitmöglichkeiten: Alpaka- und LamatrekkingHuski-Trekking\n\nAusflugsmöglichkeiten: Diverse Wanderwege: Kronberg, Rodelbahn Jakobsbad, Schwägalp, Säntis, Appenzell, Schaukäserei Stein, Golfplatz Gonten, Ebenalp, Seealpsee, Drehrestaurant Hoher Kasten\n\nSonstige Wohnzimmerausstattung (Wohnzimmer1): Tisch, Sideboard, Ständerlampe, Fernseher, Salontisch aus Glas, kleiner Teppich\n\nSonstige Schlafzimmereinrichtung (Schlafzimmer1): Kommode, Kleiderständer, kleines Gestell mit Schublade\n\nKinderzimmer: diverse Spielsachen,Duplo, Puzzle, Briobahn, Holzstall mit vielen Holztieren und mehr\n\nKücheneinrichtung: Herdplatten , Backofen, Kühlschrank, Gefrierfach, Nespresso Kaffeemaschine, Milchschäumer, div. Pfannen, Kochlöffel, Mixer, Putzschrank, Toaster, Wasserkocher, Feuerlöscher\n\nSportmöglichkeiten in der Umgebung: Bergsteigen, Eislaufen, Golfplatz, Klettern, Mountainbiking, Paragliding, Radtouren, Rodeln, Ski (alpin), Ski (Langlauf), Sportcenter, Squash, Tennis\n\nBasisinformationen\n- Erlaubte Haustiere: keins\n- befindet sich in: nichts zutreffend\n- Art d. Wohnung: Einliegerwohnung\n- Art d. Gebäudes: Mehrparteienhaus\n- Etage, auf der sich das Objekt befindet: EG\n- Grundstücksfläche: 70 m²\n- Baujahr: 1900\n- letzte umfassende Renovierung: 2019\n- freistehend\n- Anbieter wohnt auf dem Grundstück\n- Nichtraucherunterkunft\n- Schlafzimmeranzahl: 2\n- Badezimmeranzahl: 1\n\nTop Merkmale\n- WLAN\n- Klimaanlage: keine\n- Heizung: überall\n- Fußbodenheizung: überall\n- Garten: zur alleinigen Nutzung\n- Private PKW-Stellplätze insgesamt für diese Unterkunft: 3\n- ㄴ davon private Außen­stellplätze: 3\n\nSchlafen\nim Wohnbereich\n- Schlafsofa 2 Personen\n- Schlafzimmer abdunkelbar\nSchlafzimmer 1\n- Doppelbett (1,80m Breite)\n- Kinder-/Babybett\n- Schlafzimmer abdunkelbar\nSchlafzimmer 9\n- 2x Einzelbett\n- Etagenbett\n- Schlafzimmer abdunkelbar\n\nBadezimmer\nBadezimmer 1\n- Dusche\n- Badewanne mit Duschvorrichtung\n- Waschbecken\n- Toilette\n- Föhn\n- Tageslicht\n\nKochen/Wohnen\n- Kaffeemaschine: Kapsel-Kaffeemaschine\n- Kühl-/Gefrierschrank: Gefrierfach, Kühlschrank\n- Herd: Elektroherd, Herd\n- Dunstabzugshaube\n- Backofen\n- Toaster\n- Wasserkocher\n- Geschirrtücher\n- Größe der Küche: 6 m²\n- Anzahl Esstische: 1\n- Gesamtzahl Sitzplätze: 6\n- Anzahl Wohnzimmer: 1\n- Wohnzimmerabdunkelbar\n\nEntertainment\n- Fernseher: TV, Sat.-TV\n- Radio\n- CD-Player\n- Gesellschaftsspiele für Erwachsene\n\nFür Kinder\n- Kinderstuhl\n- Kinderspielzeug\n- Gesellschaftsspiele für Kinder\n\nHauswirtschaft\n- Waschmaschine: zur alleinigen Nutzung im Objekt\n- Staubsauger\n- Rauchmelder\n\nNachhaltigkeit\n- Abfallrecycling\n- Bioabfall verfügbar\n- Erneuerbare Energien\n- Solarenergie\n- Hausisolierung\n\nAußenbereich\n- Outdoormöbel\n- Grill: Holzkohlegrill\n\nUmgebung\n- Aussicht: Berg, Garten, Wald, Wiese\n- direkt am Waldrand\n- nächstgelegene Ortsmitte: 4,0 km\n- Lebensmittelhandel: 4,0 km\n- Bars/Clubs/Ausgehen: 20 m\n- Cafés/Restaurants: 4,0 km\n- Bahnhof: 2,2 km\n- Flughafen: 87,0 km\n- Autobahn: 15,0 km\n- nächste Haltestelle ÖPNV: 3 m\n- See: 34,0 km\n- Fluss: 3 m\n- Spielplatz: 5 m\n- Öffentliches Schwimmbad: 7 m\n- Golfplatz: 10 m\n- Wanderweg: 0 m\n- Reitmöglichkeit: 10 m\n- Ski\n- Skischule: 15 m\n- Skilanglauf: 4,0 km\n- Berg-/Seilbahn: 5,0 km\n\nBesonderheiten\n- Ferien auf dem Bauernhof\n- Bauernhaus\n\n<b>Haus/Residenz</b>\n\nArt d. Gebäudes: Mehrparteienhaus. Grundstücksfläche: 70m². Baujahr: 1900.\n\nInklusivleistung: Bei der Buchung dieses Objekts ist eine Rücktrittversicherung enthalten. Dabei handelt es sich um ein Angebot des Reiseveranstalters Interhome. Für dieses Inklusiv-Angebot gelten folgende Bedingungen:\n\nKontakt\ne-domizil - Feriendomizile online\n+41 44 442 29 99\n\nVerfügbarkeit / Datum, Zeit\n2.3.2026 - 24.4.2026 \n2.5.2026 - 22.5.2026 \n30.5.2026 - 4.7.2026 \n10.7.2026 - 11.7.2026  Fr, Sa\n2.8.2026 - 6.8.2026  Mo, Di, Mi, Do, So\n13.8.2026 - 18.9.2026 \n25.9.2026 \n2.10.2026 \n10.10.2026 - 31.12.2026 \n1.1.2027 - 31.12.2027 \n\nPreis\nEndreinigung: CHF 140.00\n\nVorverkauf\nhttps://myfarm.holidaybooking.ch/ferienwohnung/3360975/ferienwohnung-tiererlebnishof-windegg/?partner=116472000000\n\n\nDas Angebot im Detail: https://www.guidle.com/angebote/651706364/ferienwohnung_tiererlebnishof_windegg/urnasch\nQuelle: https://www.guidle.com
SUMMARY:Ferienwohnung Tiererlebnishof Windegg
PRIORITY:5
X-MICROSOFT-CDO-IMPORTANCE:1
CLASS:PUBLIC
BEGIN:VALARM
TRIGGER:-P1D
ACTION:DISPLAY
DESCRIPTION:Reminder
END:VALARM
END:VEVENT
BEGIN:VEVENT
DTSTART:20260302
LOCATION:Windegg 930, 9107 Urnäsch
TRANSP:OPAQUE
RRULE:FREQ=WEEKLY;INTERVAL=1;UNTIL=20260424;WKST=MO;BYDAY=MO,TU,WE,TH,FR,SA,SU
UID:457fb438-6dbf-4842-9473-640b040c4a7b-1
DTSTAMP:20260302T120000
DESCRIPTION:<b>Innenbereich</b>\n\nHeimelige Ferienwohnung im Appenzellerland, von Pro Infirmis als behindertengerechte Wohnung zertifiziert, inmitten von Alpakas und Lamas\n\nAbseits von Lärm und Hektik mit traumhafter Panoramasicht auf den Alpstein geniessen Sie hier entspannte Ferientage.\nIdeal für Familien, Paare, Senioren, Ruhesuchende, Geschäftsleute, Abenteuerfreudige, Naturfreunde usw. \n\nDie Ferienwohnung mit separatem Eingang liegt auf 950 m. ü. M. ausserhalb von Urnäsch.\n\nDie gemütliche Wohnung bietet eine moderne Küche, eine Stube und zwei Schlafzimmer. Ein grosszügiger Garten mit viel Sonne, schattenspendenden Obstbäumen und herrlichem Weitblick lädt zum Verweilen ein. Zahllose Wanderwege warten darauf, entdeckt zu werden. Im nahegelegenen Wald lädt ein Tipi (inkl. Feuerstelle) zu Spass und Abenteuern ein.\nFalls sich jemand von den warmen Augen meiner Alpakas und Lamas berühren lassen möchte, wohnen diese zauberhaften Tiere nur ein paar Schritte von der Ferienwohnungstür entfernt und können jederzeit beim Fressen, Summen und Geniessen beobachtet werden\nAuf Wunsch beraten wir Sie gerne nach Ihrer Ankunft über Ausflugsmöglichkeiten, Sehenswürdigkeiten und Aktivitäten im Appenzellerland.\nAb zwei Übernachtungen bieten wir die OSKAR Gästekarte an. Damit fahren Sie gratis öV und können von sehr vielen Rabatten profitieren.\n\nHerzlich willkommen!\n\nSonstige Sport- und Freizeitmöglichkeiten: Alpaka- und LamatrekkingHuski-Trekking\n\nAusflugsmöglichkeiten: Diverse Wanderwege: Kronberg, Rodelbahn Jakobsbad, Schwägalp, Säntis, Appenzell, Schaukäserei Stein, Golfplatz Gonten, Ebenalp, Seealpsee, Drehrestaurant Hoher Kasten\n\nSonstige Wohnzimmerausstattung (Wohnzimmer1): Tisch, Sideboard, Ständerlampe, Fernseher, Salontisch aus Glas, kleiner Teppich\n\nSonstige Schlafzimmereinrichtung (Schlafzimmer1): Kommode, Kleiderständer, kleines Gestell mit Schublade\n\nKinderzimmer: diverse Spielsachen,Duplo, Puzzle, Briobahn, Holzstall mit vielen Holztieren und mehr\n\nKücheneinrichtung: Herdplatten , Backofen, Kühlschrank, Gefrierfach, Nespresso Kaffeemaschine, Milchschäumer, div. Pfannen, Kochlöffel, Mixer, Putzschrank, Toaster, Wasserkocher, Feuerlöscher\n\nSportmöglichkeiten in der Umgebung: Bergsteigen, Eislaufen, Golfplatz, Klettern, Mountainbiking, Paragliding, Radtouren, Rodeln, Ski (alpin), Ski (Langlauf), Sportcenter, Squash, Tennis\n\nBasisinformationen\n- Erlaubte Haustiere: keins\n- befindet sich in: nichts zutreffend\n- Art d. Wohnung: Einliegerwohnung\n- Art d. Gebäudes: Mehrparteienhaus\n- Etage, auf der sich das Objekt befindet: EG\n- Grundstücksfläche: 70 m²\n- Baujahr: 1900\n- letzte umfassende Renovierung: 2019\n- freistehend\n- Anbieter wohnt auf dem Grundstück\n- Nichtraucherunterkunft\n- Schlafzimmeranzahl: 2\n- Badezimmeranzahl: 1\n\nTop Merkmale\n- WLAN\n- Klimaanlage: keine\n- Heizung: überall\n- Fußbodenheizung: überall\n- Garten: zur alleinigen Nutzung\n- Private PKW-Stellplätze insgesamt für diese Unterkunft: 3\n- ㄴ davon private Außen­stellplätze: 3\n\nSchlafen\nim Wohnbereich\n- Schlafsofa 2 Personen\n- Schlafzimmer abdunkelbar\nSchlafzimmer 1\n- Doppelbett (1,80m Breite)\n- Kinder-/Babybett\n- Schlafzimmer abdunkelbar\nSchlafzimmer 9\n- 2x Einzelbett\n- Etagenbett\n- Schlafzimmer abdunkelbar\n\nBadezimmer\nBadezimmer 1\n- Dusche\n- Badewanne mit Duschvorrichtung\n- Waschbecken\n- Toilette\n- Föhn\n- Tageslicht\n\nKochen/Wohnen\n- Kaffeemaschine: Kapsel-Kaffeemaschine\n- Kühl-/Gefrierschrank: Gefrierfach, Kühlschrank\n- Herd: Elektroherd, Herd\n- Dunstabzugshaube\n- Backofen\n- Toaster\n- Wasserkocher\n- Geschirrtücher\n- Größe der Küche: 6 m²\n- Anzahl Esstische: 1\n- Gesamtzahl Sitzplätze: 6\n- Anzahl Wohnzimmer: 1\n- Wohnzimmerabdunkelbar\n\nEntertainment\n- Fernseher: TV, Sat.-TV\n- Radio\n- CD-Player\n- Gesellschaftsspiele für Erwachsene\n\nFür Kinder\n- Kinderstuhl\n- Kinderspielzeug\n- Gesellschaftsspiele für Kinder\n\nHauswirtschaft\n- Waschmaschine: zur alleinigen Nutzung im Objekt\n- Staubsauger\n- Rauchmelder\n\nNachhaltigkeit\n- Abfallrecycling\n- Bioabfall verfügbar\n- Erneuerbare Energien\n- Solarenergie\n- Hausisolierung\n\nAußenbereich\n- Outdoormöbel\n- Grill: Holzkohlegrill\n\nUmgebung\n- Aussicht: Berg, Garten, Wald, Wiese\n- direkt am Waldrand\n- nächstgelegene Ortsmitte: 4,0 km\n- Lebensmittelhandel: 4,0 km\n- Bars/Clubs/Ausgehen: 20 m\n- Cafés/Restaurants: 4,0 km\n- Bahnhof: 2,2 km\n- Flughafen: 87,0 km\n- Autobahn: 15,0 km\n- nächste Haltestelle ÖPNV: 3 m\n- See: 34,0 km\n- Fluss: 3 m\n- Spielplatz: 5 m\n- Öffentliches Schwimmbad: 7 m\n- Golfplatz: 10 m\n- Wanderweg: 0 m\n- Reitmöglichkeit: 10 m\n- Ski\n- Skischule: 15 m\n- Skilanglauf: 4,0 km\n- Berg-/Seilbahn: 5,0 km\n\nBesonderheiten\n- Ferien auf dem Bauernhof\n- Bauernhaus\n\n<b>Haus/Residenz</b>\n\nArt d. Gebäudes: Mehrparteienhaus. Grundstücksfläche: 70m². Baujahr: 1900.\n\nInklusivleistung: Bei der Buchung dieses Objekts ist eine Rücktrittversicherung enthalten. Dabei handelt es sich um ein Angebot des Reiseveranstalters Interhome. Für dieses Inklusiv-Angebot gelten folgende Bedingungen:\n\nKontakt\ne-domizil - Feriendomizile online\n+41 44 442 29 99\n\nVerfügbarkeit / Datum, Zeit\n2.3.2026 - 24.4.2026 \n2.5.2026 - 22.5.2026 \n30.5.2026 - 4.7.2026 \n10.7.2026 - 11.7.2026  Fr, Sa\n2.8.2026 - 6.8.2026  Mo, Di, Mi, Do, So\n13.8.2026 - 18.9.2026 \n25.9.2026 \n2.10.2026 \n10.10.2026 - 31.12.2026 \n1.1.2027 - 31.12.2027 \n\nPreis\nEndreinigung: CHF 140.00\n\nVorverkauf\nhttps://myfarm.holidaybooking.ch/ferienwohnung/3360975/ferienwohnung-tiererlebnishof-windegg/?partner=116472000000\n\n\nDas Angebot im Detail: https://www.guidle.com/angebote/651706364/ferienwohnung_tiererlebnishof_windegg/urnasch\nQuelle: https://www.guidle.com
SUMMARY:Ferienwohnung Tiererlebnishof Windegg
PRIORITY:5
X-MICROSOFT-CDO-IMPORTANCE:1
CLASS:PUBLIC
BEGIN:VALARM
TRIGGER:-P1D
ACTION:DISPLAY
DESCRIPTION:Reminder
END:VALARM
END:VEVENT
END:VCALENDAR