BEGIN:VCALENDAR
PRODID:-//Microsoft Corporation//Outlook 11.0 MIMEDIR//EN
VERSION:2.0
METHOD:PUBLISH
BEGIN:VEVENT
DTSTART:20250401
LOCATION:Camping Strandbad Restaurant Türlersee Türlen, 8915 Hausen am Albis
TRANSP:OPAQUE
RRULE:FREQ=WEEKLY;INTERVAL=1;WKST=MO;BYDAY=MO,TU,WE,TH,FR,SA,SU
UID:22da7500-fde8-41f5-ba77-922433ffc7e1-0
DTSTAMP:20250401T120000
DESCRIPTION:Der Türlersee – Ihre Oase der Erholung zwischen Zürich und Zug.\nAm idyllischen Türlersee finden Sie ein vielseitiges Freizeitziel. Der naturbelassene See liegt eingebettet in sanfte Hügel und bietet mit seinem klaren Wasser und der unberührten Umgebung einen perfekten Rückzugsort vom Alltag.\n\nDer familienfreundliche Campingplatz liegt direkt am Seeufer und verfügt über Stellplätze für Zelte, Wohnwagen und Wohnmobile. Moderne Sanitäranlagen mit Warmwasserduschen für den nötigen Komfort. Die meisten Stellplätze sind ohne Stromanschlüsse. Der Camping Türlersee ist ein Campingplatz inmitten eines Naturschutzgebietes.\nFür Familien bietet der Platz einen Kinderspielplatz und viel Raum zum Toben. An den gemütlichen Grillstellen können Sie entspannte Abende verbringen. Ein kleiner Kiosk versorgt Sie mit dem Wichtigsten für den täglichen Bedarf.\n\nDas Strandbad besticht durch seine weitläufige Liegewiese und den direkten Zugang zum See. Für Kinder gibt es eine seichte Wasserzone. In der Hochsaison sorgen ausgebildete Bademeister für die Sicherheit der Badegäste.\n\nDas Restaurant hat eine grosse Terrasse. Die Küche legt Wert auf frische, lokale Zutaten und möchte auch bei Hochbetrieb kurze Wartezeiten bieten. Es ist eine einfache Badi-Beiz im Selbstbedienungsbetrieb. Wer ein Restaurant mit Bedienung sucht, findet den Löwen in Hausen am Albis nur 5 Minuten entfernt vom Türlersee.\n\nÖffnungszeiten: April bis Oktober\nParkplätze direkt am Gelände\nGute Anbindung mit öffentlichen Verkehrsmitteln (Postauto)\nBarrierefrei zugängliche Einrichtungen\n\nPreise und Reservierung:\nDie aktuellen Preise für Camping, Strandbad und spezielle Angebote finden Sie auf unserer Website. In der Hauptsaison empfehlen wir eine frühzeitige Reservierung für den Campingplatz.\n\nAnfahrt:\nMit dem Auto: 20 Minuten von Zürich und Zug\n\nMit öffentlichen Verkehrsmitteln: Regelmässige Busverbindungen von Zürich Wiedikon und von Zug. \n\nhttps://www.camping-tuerlersee.ch\n\nKontakt\nTürlersee - Camping, Strandbad, Restaurant \nTürlen\n8915 Hausen am Albis\n044 764 00 03\n\nVerfügbarkeit / Datum, Zeit\n1.4.2025 -  \n\nVorverkauf\nhttps://www.camping-tuerlersee.ch/de/kontakt\n\n\nDas Angebot im Detail: https://www.guidle.com/angebote/8194035/turlersee_-_camping_strandbad_restaurant/hausen_am_albis\nQuelle: https://www.guidle.com
SUMMARY:Türlersee - Camping, Strandbad, Restaurant
PRIORITY:5
X-MICROSOFT-CDO-IMPORTANCE:1
CLASS:PUBLIC
BEGIN:VALARM
TRIGGER:-P1D
ACTION:DISPLAY
DESCRIPTION:Reminder
END:VALARM
END:VEVENT
END:VCALENDAR