BEGIN:VCALENDAR
PRODID:-//Microsoft Corporation//Outlook 11.0 MIMEDIR//EN
VERSION:2.0
METHOD:PUBLISH
BEGIN:VEVENT
DTSTART:20260422T120000
LOCATION:8005 Zürich
TRANSP:OPAQUE
RRULE:FREQ=DAILY;INTERVAL=1
UID:7c6b93ae-f2d1-4bed-ba44-cd6e9b0fcc80-0
DTSTAMP:20260422T120000
DESCRIPTION:Bestaune die sehenswerten Schweizer Alpen auf dieser teil-geführten Tour. Entspann dich auf der Busfahrt von Zürich, bevor du per Seilbahn, Zahnradbahn und Schiff die atemberaubende Schweizer Landschaft erkundest.\n\nNach einer malerischen Fahrt kommst du am Vierwaldstättersee an. Dies ist der viertgrößte See der Schweiz, gelegen zwischen vier Kantonen. Genieße einen fantastischen Ausblick auf den See von der Gemeinde Weggis, gelegen am Fuß des Rigi.\nDie Aussicht wird immer besser, wenn du mit der Seilbahn den Rigi, die „Königin der Berge“, hinauffährst, zu den perfekt gelegenen Bädern und dem Spa an seinen Hängen.\n\nDas grandiose Bergpanorama und die “Königin der Berge” werden dir mit Sicherheit den Atem rauben. Mach Erinnerungsfotos, während du die majestätischen Berge erklimmst.\nErkunde den Rigi im Sommer zu Fuß; im Winter kannst du seine Geheimnisse mit dem Schlitten entdecken.\n\nGenieße eine einzigartige Fahrt mit der ältesten Standseilbahn der Welt, die 1871 gebaut wurde, nach Vitznau. Anschließend entspannst du dich auf dem Schiff, das dich nach Luzern bringt. Bewundere die Rigi aus einer ganz anderen Perspektive. Lasse deinen erlebnisreichen Tag in der Luzerner Altstadt ausklingen, bevor du mit dem Bus nach Zürich zurückkehrst.\n\nHighlights \n• Genieße die außergewöhnliche Aussicht aus einer Seilbahn, die in die Schweizer Alpen hinauffährt\n• Mach eine historische Fahrt mit der ältesten Standseilbahn der Welt\n• Erklimme die Rigi und sieh selbst, warum sie als die Königin der Berge bekannt ist\n• Genieße den Panoramablick, während du über das glatte Wasser des Vierwaldstättersees segelst.\n• Besuche die Altstadt von Luzern und bewundere die Rigi aus einer einzigartigen Perspektive\n\nInbegriffen:\n• Teilweise geführte Tour durch einen professionellen mehrsprachigen Guide\n• Transport in einem komfortablen Reisebus\n• Seilbahn und Zahnradbahn\n• Bootsfahrt auf dem Vierwaldstättersee\n• Von myclimate zertifizierter, klimaneutraler Betrieb\n\nNicht inbegriffen:\n• Essen\n• Getränke\n• Persönliche Ausgaben\n• Optionale Aktivitäten\n\nZusatzinformationen\nDie Tour wird von Zürich nach Weggis und von Luzern nach Zürich begleitet. Für Ihre individuelle Berg- und Talfahrt auf die Rigi (ohne Begleitung) und die Bootsfahrt zurück nach Luzern erhalten Sie Tickets und einen schriftlichen Reiseplan.\nVom 9. März bis 2. April 2026, vom 16. bis 27. November 2026 und vom 8. bis 31. März 2027 erfolgt der Hin- und Rückweg aufgrund von Wartungsarbeiten an der Seilbahn mit der Zahnradbahn.\n\nPreis\nAb 150 CHF\n\nStornierung bis zu 24 Stunden vor Beginn mit vollständiger Rückerstattung\n\nVorverkauf\nhttps://www.getyourguide.de/zurich-l55/die-konigin-der-berge-tagestour-zu-rigi-und-luzern-t1341/?partner_id=TGY5X4F&psrc=partner_api&currency=CHF\n\n\nDas Angebot im Detail: https://www.guidle.com/angebote/823823935/ab_zurich_tagestour_zum_rigi_und_zum_vierwaldstattersee/zurich\nQuelle: https://www.guidle.com
SUMMARY:Ab Zürich: Tagestour zum Rigi und zum Vierwaldstättersee
PRIORITY:5
X-MICROSOFT-CDO-IMPORTANCE:1
CLASS:PUBLIC
BEGIN:VALARM
TRIGGER:-P1D
ACTION:DISPLAY
DESCRIPTION:Reminder
END:VALARM
END:VEVENT
END:VCALENDAR