BEGIN:VCALENDAR
PRODID:-//Microsoft Corporation//Outlook 11.0 MIMEDIR//EN
VERSION:2.0
METHOD:PUBLISH
BEGIN:VEVENT
DTSTART:20260419T120000
LOCATION:8784 Braunwald
TRANSP:OPAQUE
RRULE:FREQ=DAILY;INTERVAL=1
UID:8e7c166a-2841-44b8-96d4-547d39d6d973-0
DTSTAMP:20260419T120000
DESCRIPTION:Snowli und sein Team ausgebildeter Kinderskilehrerinnen und -lehrer freuen sich auf viele Kids, die in unserem tollen Kinderland auf spielerische Weise erste Versuche auf Schnee wagen möchten. Der Sammelplatz befindet  sich im Hüttenberg, auf dem Bödeli beim Hotel Cristal. Ideales Übungsgelände beim Hüttenberg mit schuleigenem Lift für Kinder des Ski-Kindergartens.\n\nKlassenunterricht jeweils Montag bis Freitag. Privatunterricht nach Vereinbarung. Jeden Freitagnachmittag Kinderrennen und Siegerehrung. SWISS-SNOW-LEAGUE-Testprogramm für Kinder: Das einheitliche Test- und Ausbildungsprogramm der 200 offiziellen Schweizer Ski- und Snowboardschulen.\n\nTelefonische Reservationen, Information und Anmeldung: jeweils von 08.00 bis 19.00 Uhr unter Tel. +41 (0)79 215 21 25\n\nhttps://skischulebraunwald.ch/kinderland\n\nKontakt\nSchweizer Schneesportschule Braunwald\nSilvia Blatter\nPostfach 43\n8784 Braunwald\n+41 (0)79 215 21 25 \n\n\nDas Angebot im Detail: https://www.guidle.com/angebote/96008573/snowli-kinderland_und_klassenunterricht/braunwald\nQuelle: https://www.guidle.com
SUMMARY:Snowli-Kinderland und Klassenunterricht
PRIORITY:5
X-MICROSOFT-CDO-IMPORTANCE:1
CLASS:PUBLIC
BEGIN:VALARM
TRIGGER:-P1D
ACTION:DISPLAY
DESCRIPTION:Reminder
END:VALARM
END:VEVENT
END:VCALENDAR