BEGIN:VCALENDAR
PRODID:-//Microsoft Corporation//Outlook 11.0 MIMEDIR//EN
VERSION:2.0
METHOD:PUBLISH
BEGIN:VEVENT
DTSTART:20260422T120000
LOCATION:Hallenbad Stägenbuck Lägernstrasse 15, 8600 Dübendorf
TRANSP:OPAQUE
RRULE:FREQ=DAILY;INTERVAL=1
UID:b5b8f5da-ddc8-49cf-a6b1-3e3d8ce703c1-0
DTSTAMP:20260422T120000
DESCRIPTION:Aquafit ist ein Training für den ganzen Körper, bei dem alle Muskeln, wie auch die Koordination gefördert werden.\nBei meinen Kursen werden Sie fachgerecht und kompetent zum Wohle Ihrer Gesundheit beraten und bei den Übungen angeleitet. Die Lektionen sind für Frauen und Männer verschiedener Altersklassen möglich und finden vorwiegend im Tiefwasser statt. \n\nWenn Sie sich angesprochen fühlen, dann zögern Sie nicht mich zu kontaktieren.\nAuf der Homepage www.aquafit-duebendorf.ch finden Sie alle Kurszeiten und weitere Informationen.\n\n\n\nhttp://www.aquafit-duebendorf.ch/\n\nKontakt\nSarah Amstutz\nAquafit Dübendorf\nGfennstrasse 8c\n8600 Dübendorf\n079 754 48 71\n\nMontag, 07:10 - 07:55 Uhr\nDienstag, 11:55 - 12:40 und 12:45 - 13:30 Uhr\nDonnerstag, 11:55 - 12:40 und 12:45 - 13:30 Uhr\nFreitag, 11:55 - 12:40 Uhr\n\n\nPreis\nPreis pro Lektion CHF 19.00 \n\n\nDas Angebot im Detail: https://www.guidle.com/angebote/99084443/aquafit/dubendorf\nQuelle: www.guidle.com
SUMMARY:Aquafit 
PRIORITY:5
X-MICROSOFT-CDO-IMPORTANCE:1
CLASS:PUBLIC
BEGIN:VALARM
TRIGGER:-P1D
ACTION:DISPLAY
DESCRIPTION:Reminder
END:VALARM
END:VEVENT
END:VCALENDAR